BEGIN:VCALENDAR
VERSION:2.0
PRODID:-//ChamberMaster//Event Calendar 2.0//EN
METHOD:PUBLISH
X-PUBLISHED-TTL:P3D
REFRESH-INTERVAL:P3D
CALSCALE:GREGORIAN
BEGIN:VEVENT
DTSTART;VALUE=DATE:20241223
DTEND;VALUE=DATE:20250112
TRANSP:TRANSPARENT
X-MICROSOFT-CDO-ALLDAYEVENT:TRUE
SUMMARY:Winter in North Carolina Campaign with St. Ann's Knights of Columbus
DESCRIPTION:St. Ann's Knights of Columbus and Men's Club are coordinating a campaign to help the residents of Asheville\, North Carolina and the surrounding area who were impacted by Hurricane Helene.\n\n\n\nThe donations requested are:\n\n  Winter coats\, gloves\, and scarves for men\, women\, teens and children\n\n  Winter clothes\, gloves & scarfs for men\, women\, teens and children\n\n  Bedding   comforters\, blankets\, pillows (new)\, sheets\, etc.\n\n  Diapers and wipes (baby formula or food is not needed)\n\n  Household items: pots/pans\, silverware\, etc. (no glass items)\n\n  Men's work gloves and boots\n\n  Toiletries (shaving cream\, deodorant\, razors)\n\n  Cleaning supplies and detergent\n\n\n\nDonations will be accepted at the following locations and times:\n\nSt. Ann's Catholic Church parking lot at 691 Garfield Parkway in Bethany Beach:\n\nJanuary 4 from 10am to 1pm\n\nJanuary 5 from 1pm to 3pm\n\nOur Lady of Guadalupe Catholic Church parking lot at 35318 Church Road in Frankford:\n\nJanuary 4 from 10am to 1pm\n\nJanuary 11 from 10am to 1pm\n\n\n\nMonetary donations will also be accepted at the donation locations\, or please mail a check made payable to the St. Ann's Catholic Church\, 691 Garfield Parkway\, Bethany Beach\, DE 19930. Include in the memo line "Winter in NC Campaign".\n\n\n\nFor questions please contact:\n\nTom Hill thill556@gmail.com (202) 327-4184 or\n\nCJ DiBiaso CDibiasojr@aol.com (302) 732-9490
X-ALT-DESC;FMTTYPE=text/html:<span style="font-size:12px\;"><span style="font-family:arial\;">St. Ann&rsquo\;s Knights of Columbus and Men&rsquo\;s Club are coordinating a campaign to help the residents of Asheville\, North Carolina and the surrounding area who were impacted by Hurricane Helene.<br />\n<br />\nThe donations requested are:<br />\n&#61623\; Winter coats\, gloves\, and scarves for men\, women\, teens and children<br />\n&#61623\; Winter clothes\, gloves &amp\; scarfs for men\, women\, teens and children<br />\n&#61623\; Bedding &ndash\; comforters\, blankets\, pillows (new)\, sheets\, etc.<br />\n&#61623\; Diapers and wipes (baby formula or food is not needed)<br />\n&#61623\; Household items: pots/pans\, silverware\, etc. (no glass items)<br />\n&#61623\; Men&rsquo\;s work gloves and boots<br />\n&#61623\; Toiletries (shaving cream\, deodorant\, razors)<br />\n&#61623\; Cleaning supplies and detergent<br />\n<br />\nDonations will be accepted at the following locations and times:<br />\nSt. Ann&rsquo\;s Catholic Church parking lot at 691 Garfield Parkway in Bethany Beach:<br />\nJanuary 4 from 10am to 1pm<br />\nJanuary 5 from 1pm to 3pm<br />\nOur Lady of Guadalupe Catholic Church parking lot at 35318 Church Road in Frankford:<br />\nJanuary 4 from 10am to 1pm<br />\nJanuary 11 from 10am to 1pm<br />\n<br />\nMonetary donations will also be accepted at the donation locations\, or please mail a check made payable to the St. Ann&rsquo\;s Catholic Church\, 691 Garfield Parkway\, Bethany Beach\, DE 19930. Include in the memo line &ldquo\;Winter in NC Campaign&rdquo\;.<br />\n<br />\nFor questions please contact:<br />\nTom Hill thill556@gmail.com (202) 327-4184 or<br />\nCJ DiBiaso CDibiasojr@aol.com (302) 732-9490</span></span>
LOCATION:St. Ann's Catholic Church 691 Garfield Parkway Bethany Beach\, DE 19930 Our Lady of Guadalupe Catholic Church 35318 Church Road Frankford\, DE 19945
UID:e.2126.31943
SEQUENCE:3
DTSTAMP:20260421T153619Z
URL:https://business.thequietresorts.com/events/details/winter-in-north-carolina-campaign-with-st-ann-s-knights-of-columbus-31943
END:VEVENT

END:VCALENDAR
