BEGIN:VCALENDAR
VERSION:2.0
PRODID:-//ChamberMaster//Event Calendar 2.0//EN
METHOD:PUBLISH
X-PUBLISHED-TTL:P3D
REFRESH-INTERVAL:P3D
CALSCALE:GREGORIAN
BEGIN:VEVENT
DTSTART:20241209T220000Z
DTEND:20241210T030000Z
X-MICROSOFT-CDO-ALLDAYEVENT:FALSE
SUMMARY:Ugly Sweater Christmas Party at The Salted Rim Margarita Bar & Grille
DESCRIPTION:Ugly Sweater\n\nChristmas Party\n\n\n\nMonday\, December 9th\n\n5:00pm\n\n\n\nFood & Drink Specials\n\n\n\nDJ WAX  6-9pm\n\n\n\nFood Drive & Toys for Tots
X-ALT-DESC;FMTTYPE=text/html:<div style="text-align: center\;"><span style="color:#FF0000"><span style="font-size:24px"><span style="font-family:comic sans ms"><strong>Ugly Sweater</strong></span></span></span><br />\n<span style="color:#006400"><span style="font-size:18px"><span style="font-family:comic sans ms">Christmas Party</span></span></span><br />\n<br />\nMonday\, December 9th<br />\n5:00pm<br />\n<br />\nFood &amp\; Drink Specials<br />\n<br />\n<em><span style="font-size:20px"><span style="font-family:verdana">DJ WAX&nbsp\; 6-9pm</span></span></em></div>\n\n<div style="text-align: center\;"><br />\nFood Drive &amp\; Toys for Tots</div>\n
LOCATION:
UID:e.2126.31891
SEQUENCE:3
DTSTAMP:20260421T121604Z
URL:https://business.thequietresorts.com/events/details/ugly-sweater-christmas-party-at-the-salted-rim-margarita-bar-grille-31891
END:VEVENT

END:VCALENDAR
