BEGIN:VCALENDAR
VERSION:2.0
PRODID:-//ChamberMaster//Event Calendar 2.0//EN
METHOD:PUBLISH
X-PUBLISHED-TTL:P3D
REFRESH-INTERVAL:P3D
CALSCALE:GREGORIAN
BEGIN:VEVENT
DTSTART:20251210T150000Z
DTEND:20251210T153000Z
X-MICROSOFT-CDO-ALLDAYEVENT:FALSE
SUMMARY:Story Time at Bethany Beach Books
DESCRIPTION:Join Bethany Beach Books for story time! Story time is free and open to children of all ages! Story time includes reading stories and a craft!
X-ALT-DESC;FMTTYPE=text/html:<span style="color:rgb(79\, 79\, 79)\; font-family:lora\; font-size:16px">Join Bethany Beach Books for story time! Story time is free and open to children of all ages! Story time includes reading stories and a craft!&nbsp\;</span>
LOCATION:Bethany Beach Books
UID:e.2126.41049
SEQUENCE:3
DTSTAMP:20260422T000818Z
URL:https://business.thequietresorts.com/events/details/story-time-at-bethany-beach-books-12-10-2025-41049
END:VEVENT

END:VCALENDAR
