BEGIN:VCALENDAR
VERSION:2.0
PRODID:-//ChamberMaster//Event Calendar 2.0//EN
METHOD:PUBLISH
X-PUBLISHED-TTL:P3D
REFRESH-INTERVAL:P3D
CALSCALE:GREGORIAN
BEGIN:VEVENT
DTSTART;VALUE=DATE:20260303
DTEND;VALUE=DATE:20260404
TRANSP:TRANSPARENT
X-MICROSOFT-CDO-ALLDAYEVENT:TRUE
SUMMARY:Sponsorship Opportunities: 2026 Ocean to Bay Bike Tour
DESCRIPTION:Nearly 2\,000 cyclists of all levels will participate in the 2026 Ocean to Bay Bike Tour through Sussex County's beautiful beaches\, bays\, and beyond. Presented by the Bethany-Fenwick Area Chamber of Commerce\, this event draws local and visiting cycling enthusiasts and their friends/family to the area in early spring. \n\n\n\nSponsorships of all levels are available now until April 3rd. Promotional advertising will increase through March into early April. See below for a full list of opportunities and entitlements.\n\n\n\nEmail Alyssa at events@thequietresorts.com regarding all sponsorship inquiries. \n\n\n2026 Ocean to Bay Bike Tour\n\nBike Tour Date: April 24 - 25\, 2026 \n\n \n\nSupporting Sponsor | Value  $3\,000.00  \n\n\n	Company banner displayed during event (provided by sponsor) \n	Company logo and hyperlink listed on year-round event website \n	Company logo listed on social media \n	Company logo on cue sheets \n	Company logo on event shirts \n	Company name listed on sponsor banner \n	Complimentary registrations included (up to 2) . *All registration info due by April 1st. \n	Complimentary shirts included (up to 4). Size requests due by April 1st. \n	Mentions in all media and event advertising as "Supporting Sponsor" where applicable \n	Opportunity to put items in swag bags given to each participant \n	Press release announcing sponsorship \n\n\nSignature Sponsor - Post Party Host | Value  $1\,000.00  \n\n\n	Additional promotion of Post Party correspondence and advertising \n	Company logo and hyperlink listed on the year-round event website \n	Company logo listed on social media \n	Company name listed on sponsor banner \n	Complimentary shirts included (up to 2). Size requests due by April 1st. \n	Mentions in all media and event advertising as "Post Party Sponsor" where applicable \n	Opportunity to put items in swag bags given to each participant \n\n\n \n\nSignature Sponsor | Value  $1\,000.00  \n\n\n	Additional promotion of Post Party correspondence and advertising \n	Company logo and hyperlink listed on the year-round event website \n	Company logo listed on social media \n	Company name listed on sponsor banner \n	Company logo listed on event shirt (Deadline: March 15)\n	Complimentary shirts included (up to 2). Size requests due by April 1st. \n	Mentions in all media and event advertising as "Signature Sponsor" or  "Post Party Sponsor" where applicable \n	Opportunity to put items in swag bags given to each participant \n\n\n \n\nPremium Sponsor - First Responders Breakfast | Value  $500  \n\n\n	Company logo and hyperlink listed on the year-round event website \n	Company logo listed on social media \n	Company name listed on sponsor banner \n	Mentions in all media and event advertising as "Premium Sponsor" where applicable \n\n\n \n\nPremium Sponsor - Entertainment | Value  $500.00  \n\n\n	Company logo and hyperlink listed on the year-round event website \n	Company logo listed on social media \n	Company name listed on sponsor banner \n	Mentions in all media and event advertising as "Premium Sponsor" where applicable \n	Sponsorship options include: DJ sponsor (Friday or Saturday)\; finish line sponsor\, cyclist perks\, giveaways & more!\n\n\n \n\nAssociate Sponsor - Award/Superlative | Value  $250.00  \n\n\n	Company logo and hyperlink listed on the year-round event website \n	Company logo listed on social media \n	Company name/logo listed on award \n	Mentions in all media and event advertising as "Associate Sponsor" where applicable \n	Superlative Award Examples: Biggest Team\; Furthest Distance Travelled\; \n	(Cont.) Best Team Name\; Oldest and Youngest Rider \n\n\n \n\nSwag Bag Sponsor | Value  $100.00   \n\n\n	All (non-paper) swag items must be dropped off at the Chamber by April 3rd (*QTY: 2\,000)\n\n\n \n\nPrize Wheel Sponsor  \n\n\n	Proceeds are contributed to event beneficiaries\n	Gift card sponsors sign up online - $20 minimum \n	Non-gift card door prize alternative available. Drop off item at Chamber by April 22\, 2026 \n	Prize wheel sponsor names listed on event page when registration completed \n\n\n\nSponsorship opportunities and levels can be flexible to partner requests and innovative ideas. If you have an idea\, please feel free to reach out to the Chamber staff to discuss your idea or inquire about alternative options.
X-ALT-DESC;FMTTYPE=text/html:Nearly 2\,000 cyclists of all levels will participate in the 2026 Ocean to Bay Bike Tour through Sussex County&#39\;s beautiful beaches\, bays\, and beyond. Presented by the Bethany-Fenwick Area Chamber of Commerce\, this event draws local and visiting cycling enthusiasts and their friends/family to the area in early spring.&nbsp\;<br />\n<br />\n<strong>Sponsorships of all levels are available now until April 3rd.</strong> Promotional advertising will increase through March into early April. See below for a full list of opportunities and entitlements.<br />\n<br />\nEmail Alyssa at events@thequietresorts.com regarding all sponsorship inquiries.&nbsp\;\n<div><br />\n<strong>2026 Ocean to Bay Bike Tour</strong></div>\n\n<div><strong>Bike Tour Date: April 24 - 25\, 2026<span style="white-space:pre"> </span></strong></div>\n\n<div>&nbsp\;</div>\n\n<div><strong>Supporting Sponsor</strong> |<span style="white-space:pre"> </span>Value<span style="white-space:pre"> </span> $3\,000.00 <span style="white-space:pre"> </span></div>\n\n<ul>\n	<li><span style="white-space: normal\;">Company banner displayed during event (provided by sponsor)<span style="white-space:pre"> </span></span></li>\n	<li><span style="white-space: normal\;">Company logo and hyperlink listed on year-round event website<span style="white-space:pre"> </span></span></li>\n	<li><span style="white-space: normal\;">Company logo listed on social media<span style="white-space:pre"> </span></span></li>\n	<li><span style="white-space: normal\;">Company logo on cue sheets<span style="white-space:pre"> </span></span></li>\n	<li><span style="white-space: normal\;">Company logo on event shirts<span style="white-space:pre"> </span></span></li>\n	<li><span style="white-space: normal\;">Company name listed on sponsor banner<span style="white-space:pre"> </span></span></li>\n	<li><span style="white-space: normal\;">Complimentary registrations included (up to 2) . *All registration info due by April 1st.<span style="white-space:pre"> </span></span></li>\n	<li><span style="white-space: normal\;">Complimentary shirts included (up to 4). Size requests due by April 1st.<span style="white-space:pre"> </span></span></li>\n	<li><span style="white-space: normal\;">Mentions in all media and event advertising as &quot\;Supporting Sponsor&quot\; where applicable<span style="white-space:pre"> </span></span></li>\n	<li><span style="white-space: normal\;">Opportunity to put items in swag bags given to each participant<span style="white-space:pre"> </span></span></li>\n	<li><span style="white-space: normal\;">Press release announcing sponsorship<span style="white-space:pre"> </span></span></li>\n</ul>\n\n<div><strong>Signature Sponsor - Post Party Host</strong> |<span style="white-space:pre"> </span>Value<span style="white-space:pre"> </span> $1\,000.00 <span style="white-space:pre"> </span></div>\n\n<ul>\n	<li><span style="white-space: normal\;">Additional promotion of Post Party correspondence and advertising<span style="white-space:pre"> </span></span></li>\n	<li><span style="white-space: normal\;">Company logo and hyperlink listed on the year-round event website<span style="white-space:pre"> </span></span></li>\n	<li><span style="white-space: normal\;">Company logo listed on social media<span style="white-space:pre"> </span></span></li>\n	<li><span style="white-space: normal\;">Company name listed on sponsor banner<span style="white-space:pre"> </span></span></li>\n	<li><span style="white-space: normal\;">Complimentary shirts included (up to 2). Size requests due by April 1st.<span style="white-space:pre"> </span></span></li>\n	<li><span style="white-space: normal\;">Mentions in all media and event advertising as &quot\;Post Party Sponsor&quot\; where applicable<span style="white-space:pre"> </span></span></li>\n	<li><span style="white-space: normal\;">Opportunity to put items in swag bags given to each participant<span style="white-space:pre"> </span></span></li>\n</ul>\n\n<div>&nbsp\;</div>\n\n<div><strong>Signature Sponsor</strong><span style="white-space:pre"><strong> </strong>| </span>Value<span style="white-space:pre"> </span> $1\,000.00 <span style="white-space:pre"> </span></div>\n\n<ul>\n	<li><span style="white-space: normal\;">Additional promotion of Post Party correspondence and advertising<span style="white-space:pre"> </span></span></li>\n	<li><span style="white-space: normal\;">Company logo and hyperlink listed on the year-round event website<span style="white-space:pre"> </span></span></li>\n	<li><span style="white-space: normal\;">Company logo listed on social media<span style="white-space:pre"> </span></span></li>\n	<li><span style="white-space: normal\;">Company name listed on sponsor banner<span style="white-space:pre"> </span></span></li>\n	<li><span style="white-space: normal\;"><span style="white-space:pre">Company logo listed on event shirt (Deadline: March 15)</span></span></li>\n	<li><span style="white-space: normal\;">Complimentary shirts included (up to 2). Size requests due by April 1st.<span style="white-space:pre"> </span></span></li>\n	<li><span style="white-space: normal\;">Mentions in all media and event advertising as &quot\;Signature Sponsor&quot\; or&nbsp\; &quot\;Post Party Sponsor&quot\; where applicable<span style="white-space:pre"> </span></span></li>\n	<li><span style="white-space: normal\;">Opportunity to put items in swag bags given to each participant<span style="white-space:pre"> </span></span></li>\n</ul>\n\n<div>&nbsp\;</div>\n\n<div><strong>Premium Sponsor - First Responders Breakfast</strong><span style="white-space:pre"> | </span>Value<span style="white-space:pre"> </span>&nbsp\;$500 <span style="white-space:pre"> </span></div>\n\n<ul>\n	<li><span style="white-space: normal\;">Company logo and hyperlink listed on the year-round event website<span style="white-space:pre"> </span></span></li>\n	<li><span style="white-space: normal\;">Company logo listed on social media<span style="white-space:pre"> </span></span></li>\n	<li><span style="white-space: normal\;">Company name listed on sponsor banner<span style="white-space:pre"> </span></span></li>\n	<li><span style="white-space: normal\;">Mentions in all media and event advertising as &quot\;Premium Sponsor&quot\; where applicable<span style="white-space:pre"> </span></span></li>\n</ul>\n\n<div>&nbsp\;</div>\n\n<div><strong>Premium Sponsor - Entertainment</strong><span style="white-space:pre"> | </span>Value<span style="white-space:pre"> </span> $500.00 <span style="white-space:pre"> </span></div>\n\n<ul>\n	<li><span style="white-space: normal\;">Company logo and hyperlink listed on the year-round event website<span style="white-space:pre"> </span></span></li>\n	<li><span style="white-space: normal\;">Company logo listed on social media<span style="white-space:pre"> </span></span></li>\n	<li><span style="white-space: normal\;">Company name listed on sponsor banner<span style="white-space:pre"> </span></span></li>\n	<li><span style="white-space: normal\;">Mentions in all media and event advertising as &quot\;Premium Sponsor&quot\; where applicable<span style="white-space:pre"> </span></span></li>\n	<li><span style="white-space: normal\;"><span style="white-space:pre">Sponsorship options include: DJ sponsor (Friday or Saturday)\; finish line sponsor\, cyclist perks\, giveaways &amp\; more!</span></span></li>\n</ul>\n\n<div>&nbsp\;</div>\n\n<div><strong>Associate Sponsor - Award/Superlative</strong><span style="white-space:pre"><strong> </strong>| </span>Value<span style="white-space:pre"> </span> $250.00 <span style="white-space:pre"> </span></div>\n\n<ul>\n	<li><span style="white-space: normal\;">Company logo and hyperlink listed on the year-round event website<span style="white-space:pre"> </span></span></li>\n	<li><span style="white-space: normal\;">Company logo listed on social media<span style="white-space:pre"> </span></span></li>\n	<li><span style="white-space: normal\;">Company name/logo listed on award<span style="white-space:pre"> </span></span></li>\n	<li><span style="white-space: normal\;">Mentions in all media and event advertising as &quot\;Associate Sponsor&quot\; where applicable<span style="white-space:pre"> </span></span></li>\n	<li><span style="white-space: normal\;">Superlative Award Examples: Biggest Team\; Furthest Distance Travelled\;<span style="white-space:pre"> </span></span></li>\n	<li><span style="white-space: normal\;">(Cont.) Best Team Name\; Oldest and Youngest Rider<span style="white-space:pre"> </span></span></li>\n</ul>\n\n<div>&nbsp\;</div>\n\n<div><strong>Swag Bag Sponsor</strong><span style="white-space:pre"> | </span>Value<span style="white-space:pre"> </span> $100.00 <span style="white-space:pre"> </span>&nbsp\;</div>\n\n<ul>\n	<li>All (non-paper) swag items must be dropped off at the Chamber by April 3rd <span style="white-space: pre\;">(</span><span style="white-space: normal\;">*QTY: 2\,000</span><span style="white-space: pre\;">)</span></li>\n</ul>\n\n<div>&nbsp\;</div>\n\n<div><strong>Prize Wheel Sponsor</strong><span style="white-space:pre"> </span>&nbsp\;</div>\n\n<ul>\n	<li><span style="white-space: normal\;">Proceeds are contributed to event beneficiaries</span></li>\n	<li><span style="white-space: normal\;">Gift card sponsors sign up online - $20 minimum<span style="white-space:pre"> </span></span></li>\n	<li><span style="white-space: normal\;">Non-gift card door prize alternative available. Drop off item at Chamber by April 22\, 2026<span style="white-space:pre"> </span></span></li>\n	<li><span style="white-space: normal\;">Prize wheel sponsor names listed on event page when registration completed<span style="white-space:pre"> </span></span></li>\n</ul>\n<br />\n<em>Sponsorship opportunities and levels can be flexible to partner requests and innovative ideas. If you have an idea\, please feel free to reach out to the Chamber staff to discuss your idea or inquire about alternative options.</em>
LOCATION:Packet Pickup & Start/Finish Line Location: Bethany Beach Center 15 N. Pennsylvania Ave. Bethany Beach\, DE 19930
UID:e.2126.43677
SEQUENCE:3
DTSTAMP:20260421T173025Z
URL:https://business.thequietresorts.com/events/details/sponsorship-opportunities-ocean-to-bay-bike-tour-43677
END:VEVENT

END:VCALENDAR
