BEGIN:VCALENDAR
VERSION:2.0
PRODID:-//ChamberMaster//Event Calendar 2.0//EN
METHOD:PUBLISH
X-PUBLISHED-TTL:P3D
REFRESH-INTERVAL:P3D
CALSCALE:GREGORIAN
BEGIN:VEVENT
DTSTART:20260704T233000Z
DTEND:20260705T010000Z
X-MICROSOFT-CDO-ALLDAYEVENT:FALSE
SUMMARY:Seaside Concert Series - Uncaged
DESCRIPTION:UNCAGED is the premium tribute to the Zac Brown Band - one of country music's biggest acts!\n\n Long-time country fans will be singing along to every word of "Chicken Fried"\, "Loving You Easy"\, "Same Boat" and more of the Zac Brown Band's 14 number one singles\, as well as favorites from their many studio and live albums. Just breaking in your cowboy boots? UNCAGED has you covered. In concert\, the Zac Brown Band is known for their creative and offbeat covers and UNCAGED brings you the best of those\, including hits by artists like Jimmy Buffet\, Mumford & Sons and Shawn Mendes.\n\n With years of experience paying tribute to the Zac Brown Band under their belts\, the members of UNCAGED have dedicated their efforts to bringing a professional\, high-quality experience to fans everywhere. Featuring thick harmonies and intricate instrumentals\, UNCAGED is the pinnacle in performance for all things Zac Brown Band.
X-ALT-DESC;FMTTYPE=text/html:<span style="font-size:16px\;"><span style="background-color: rgba(255\, 255\, 255\, 0.95)\; color: rgb(68\, 68\, 68)\; font-family: arial\;">UNCAGED is the premium tribute to the Zac Brown Band - one of country music&rsquo\;s biggest acts!</span><br />\n<span style="background-color: rgba(255\, 255\, 255\, 0.95)\; color: rgb(68\, 68\, 68)\; font-family: arial\;">&nbsp\;Long-time country fans will be singing along to every word of &ldquo\;Chicken Fried&rdquo\;\, &ldquo\;Loving You Easy&rdquo\;\, &ldquo\;Same Boat&rdquo\; and more of the Zac Brown Band&rsquo\;s 14 number one singles\, as well as favorites from their many studio and live albums. Just breaking in your cowboy boots? UNCAGED has you covered. In concert\, the Zac Brown Band is known for their creative and offbeat covers and UNCAGED brings you the best of those\, including hits by artists like Jimmy Buffet\, Mumford &amp\; Sons and Shawn Mendes.</span><br />\n<span style="background-color: rgba(255\, 255\, 255\, 0.95)\; color: rgb(68\, 68\, 68)\; font-family: arial\;">&nbsp\;With years of experience paying tribute to the Zac Brown Band under their belts\, the members of UNCAGED have dedicated their efforts to bringing a professional\, high-quality experience to fans everywhere. Featuring thick harmonies and intricate instrumentals\, UNCAGED is the pinnacle in performance for all things Zac Brown Band.</span></span>
LOCATION:Bethany Beach Bandstand
UID:e.2126.43893
SEQUENCE:3
DTSTAMP:20260421T203241Z
URL:https://business.thequietresorts.com/events/details/seaside-concert-series-uncaged-43893
END:VEVENT

END:VCALENDAR
