BEGIN:VCALENDAR
VERSION:2.0
PRODID:-//ChamberMaster//Event Calendar 2.0//EN
METHOD:PUBLISH
X-PUBLISHED-TTL:P3D
REFRESH-INTERVAL:P3D
CALSCALE:GREGORIAN
BEGIN:VEVENT
DTSTART:20260703T233000Z
DTEND:20260704T010000Z
X-MICROSOFT-CDO-ALLDAYEVENT:FALSE
SUMMARY:Seaside Concert Series - The Funsters
DESCRIPTION:The Funsters\, Delaware's premier Classic Rock 'n' Soul Band\, has been nominated for a 2025 Best of Delaware Musical Artist   Downstate Award. The group has been entertaining crowds throughout the state and beyond for more than three decades with a wide range of songs and talent. In 2024 the band added new female Vocalist\, Nancy Curry to expand the group's repertoire even further.  \n\nNote: The Independence Day Parade will take place at noon on this day.
X-ALT-DESC;FMTTYPE=text/html:<p><span style="font-size:16px\;">The Funsters\, Delaware&rsquo\;s premier Classic Rock &lsquo\;n&rsquo\; Soul Band\, has been nominated for a 2025 Best of Delaware Musical Artist &ndash\; Downstate Award. The group has been entertaining crowds throughout the state and beyond for more than three decades with a wide range of songs and talent. In 2024 the band added new female Vocalist\, Nancy Curry to expand the group&rsquo\;s repertoire even further. &nbsp\;</span></p>\n\n<p><span style="font-size:16px\;">Note: The Independence Day Parade will take place at noon on this day.&nbsp\;</span></p>\n
LOCATION:Bethany Beach Bandstand
UID:e.2126.43892
SEQUENCE:3
DTSTAMP:20260421T203418Z
URL:https://business.thequietresorts.com/events/details/seaside-concert-series-the-funsters-07-03-2026-43892
END:VEVENT

END:VCALENDAR
