BEGIN:VCALENDAR
VERSION:2.0
PRODID:-//ChamberMaster//Event Calendar 2.0//EN
METHOD:PUBLISH
X-PUBLISHED-TTL:P3D
REFRESH-INTERVAL:P3D
CALSCALE:GREGORIAN
BEGIN:VEVENT
DTSTART:20260722T220000Z
DTEND:20260722T233000Z
X-MICROSOFT-CDO-ALLDAYEVENT:FALSE
SUMMARY:Seaside Concert Series - Teenage Satellites
DESCRIPTION:PLEASE NOTE 6 PM START TIME FOR THIS EVENT.\n\n\n\nThe Teenage Satellites are a high-energy pop/rock/alternative cover band made up of five musicians aged 15 18 from the Lewes and Rehoboth area. Formed in late 2021\, the band quickly gained momentum\, expanding to five members and booking shows shortly after their debut performance. Since 2022\, they've become a fixture on the Delaware beach music scene\, performing at popular local venues\, major festivals\, holiday events\, and the Delaware State Fair. They've also played notable out-of-area shows\, including a performance at Philadelphia's legendary Dobbs on South\, following in the footsteps of iconic rock acts.
X-ALT-DESC;FMTTYPE=text/html:<span style="font-size:16px\;"><em><strong>PLEASE NOTE 6 PM START TIME FOR THIS EVENT.</strong></em><br />\n<br />\n<span style="background-color: rgba(255\, 255\, 255\, 0.95)\; color: rgb(68\, 68\, 68)\; font-family: arial\;">The Teenage Satellites are a high-energy pop/rock/alternative cover band made up of five musicians aged 15&ndash\;18 from the Lewes and Rehoboth area. Formed in late 2021\, the band quickly gained momentum\, expanding to five members and booking shows shortly after their debut performance. Since 2022\, they&rsquo\;ve become a fixture on the Delaware beach music scene\, performing at popular local venues\, major festivals\, holiday events\, and the Delaware State Fair. They&rsquo\;ve also played notable out-of-area shows\, including a performance at Philadelphia&rsquo\;s legendary Dobbs on South\, following in the footsteps of iconic rock acts.</span></span>
LOCATION:Bethany Beach Bandstand
UID:e.2126.43900
SEQUENCE:3
DTSTAMP:20260421T203505Z
URL:https://business.thequietresorts.com/events/details/seaside-concert-series-teenage-satellites-43900
END:VEVENT

END:VCALENDAR
