BEGIN:VCALENDAR
VERSION:2.0
PRODID:-//ChamberMaster//Event Calendar 2.0//EN
METHOD:PUBLISH
X-PUBLISHED-TTL:P3D
REFRESH-INTERVAL:P3D
CALSCALE:GREGORIAN
BEGIN:VEVENT
DTSTART:20260723T233000Z
DTEND:20260724T010000Z
X-MICROSOFT-CDO-ALLDAYEVENT:FALSE
SUMMARY:Seaside Concert Series - Seven Wonders
DESCRIPTION:The Seven Wonders are world-class musicians paying homage to the music of Fleetwood Mac and Stevie Nicks. Named after the Fleetwood Mac song "Seven Wonders"\, the band's collective performing experience brings the crowd powerful renditions of these timeless tunes. They authentically recreate all the great hits of Fleetwood Mac\, including Dreams\, Go Your Own Way\, Rhiannon\, Edge of Seventeen\, Landslide\, Gypsy\, and more. The Seven Wonders' onstage passion reconnects fans with the music they love.
X-ALT-DESC;FMTTYPE=text/html:<span style="font-size:16px\;"><span style="background-color: rgba(255\, 255\, 255\, 0.95)\; color: rgb(68\, 68\, 68)\; font-family: arial\;">The Seven Wonders are world-class musicians paying homage to the music of Fleetwood Mac and Stevie Nicks. Named after the Fleetwood Mac song &ldquo\;Seven Wonders&rdquo\;\, the band&#39\;s collective performing experience brings the crowd powerful renditions of these timeless tunes. They authentically recreate all the great hits of Fleetwood Mac\, including Dreams\, Go Your Own Way\, Rhiannon\, Edge of Seventeen\, Landslide\, Gypsy\, and more. The Seven Wonders&rsquo\; onstage passion reconnects fans with the music they love.</span></span>
LOCATION:Bethany Beach Bandstand
UID:e.2126.43901
SEQUENCE:3
DTSTAMP:20260421T203338Z
URL:https://business.thequietresorts.com/events/details/seaside-concert-series-seven-wonders-43901
END:VEVENT

END:VCALENDAR
