BEGIN:VCALENDAR
VERSION:2.0
PRODID:-//ChamberMaster//Event Calendar 2.0//EN
METHOD:PUBLISH
X-PUBLISHED-TTL:P3D
REFRESH-INTERVAL:P3D
CALSCALE:GREGORIAN
BEGIN:VEVENT
DTSTART:20260729T220000Z
DTEND:20260729T233000Z
X-MICROSOFT-CDO-ALLDAYEVENT:FALSE
SUMMARY:Seaside Concert Series - Salazar
DESCRIPTION:PLEASE NOTE 6 PM START TIME FOR THIS SPECIAL EVENT. \n\nAnthony Salazar developed his skill in the art of magic at a very young age and has since made this part of show business his life's work. Anthony was born in the Philippines\, and at the age of ten\, moved to America where he would soon discover a book that would open his world to art of magic.  \n\nAt 13\, he moved to a town with a nearby magic shop where he would spend hours every day learning his craft.  After high school\, he started performing full-time professionally and never looked back.  He would go on to perform his carefully blended combination of comedy\, illusions\, and award-winning sleight-of hand for thousands. He also works as a magic consultant for commercials and television shows. \n\nAnthony has the ability to connect with crowds from Baby Boomers to Gen-Z.  His onstage personality is a combination of a slight edge and likability that wins over the hearts of audiences anywhere.\n\nHe now performs regularly in casinos\, resort\, and theaters all over the world.
X-ALT-DESC;FMTTYPE=text/html:<p><span style="font-size:16px\;"><em><strong>PLEASE NOTE 6 PM START TIME FOR THIS SPECIAL EVENT.&nbsp\;</strong></em></span></p>\n\n<p><span style="font-size:16px\;">Anthony Salazar developed his skill in the art of magic at a very young age and has since made this part of show business his life&rsquo\;s work. Anthony was born in the Philippines\, and at the age of ten\, moved to America where he would soon discover a book that would open his world to art of magic. &nbsp\;</span></p>\n\n<p><span style="font-size:16px\;">At 13\, he moved to a town with a nearby magic shop where he would spend hours every day learning his craft. &nbsp\;After high school\, he started performing full-time professionally and never looked back. &nbsp\;He would go on to perform his carefully blended combination of comedy\, illusions\, and award-winning sleight-of hand for thousands. He also works as a magic consultant for commercials and television shows.&nbsp\;</span></p>\n\n<p><span style="font-size:16px\;">Anthony has the ability to connect with crowds from Baby Boomers to Gen-Z. &nbsp\;His onstage personality is a combination of a slight edge and likability that wins over the hearts of audiences anywhere.</span></p>\n\n<p><span style="font-size:16px\;">He now performs regularly in casinos\, resort\, and theaters all over the world.</span></p>\n
LOCATION:Bethany Beach Bandstand
UID:e.2126.43904
SEQUENCE:3
DTSTAMP:20260421T203339Z
URL:https://business.thequietresorts.com/events/details/seaside-concert-series-salazar-43904
END:VEVENT

END:VCALENDAR
