BEGIN:VCALENDAR
VERSION:2.0
PRODID:-//ChamberMaster//Event Calendar 2.0//EN
METHOD:PUBLISH
X-PUBLISHED-TTL:P3D
REFRESH-INTERVAL:P3D
CALSCALE:GREGORIAN
BEGIN:VEVENT
DTSTART:20260701T220000Z
DTEND:20260701T233000Z
X-MICROSOFT-CDO-ALLDAYEVENT:FALSE
SUMMARY:Seaside Concert Series - Mr. Jon and Friends
DESCRIPTION:PLEASE NOTE THE 6 PM START TIME!!\n\n\n\nJoin multiple Parents' Choice Award winner Mr. Jon and Friends for an interactive\, hilarious concert for the whole family.  Mr. Jon and his silly friend George the monkey will have you laughing and dancing along\, this time with a full band.  A super fun show not to be missed.\n\nMr. Jon sings and plays guitar and has recorded 4 kids albums. He has won two Parents' Choice Awards\, and performs over 250 shows a year for children over 7 states\, sharing the stage with bands like The Pop Ups and The Imagination Movers. He makes music for kids and their families that inspire fun\, laughter\, and dancing. Sometimes with a band\, sometimes as a duo\, and sometimes solo\, the music of Mr. Jon & Friends is sure to bring a smile to your face!
X-ALT-DESC;FMTTYPE=text/html:<p><span style="font-size:16px\;"><em><strong>PLEASE NOTE THE 6 PM START TIME!!</strong></em><br />\n<br />\nJoin multiple Parents&rsquo\; Choice Award winner Mr. Jon and Friends for an interactive\, hilarious concert for the whole family. &nbsp\;Mr. Jon and his silly friend George the monkey will have you laughing and dancing along\, this time with a full band. &nbsp\;A super fun show not to be missed.</span></p>\n\n<p><span style="font-size:16px\;">Mr. Jon sings and plays guitar and has recorded 4 kids albums. He has won two Parents&#39\; Choice Awards\, and performs over 250 shows a year for children over 7 states\, sharing the stage with bands like The Pop Ups and The Imagination Movers. He makes music for kids and their families that inspire fun\, laughter\, and dancing. Sometimes with a band\, sometimes as a duo\, and sometimes solo\, the music of Mr. Jon &amp\; Friends is sure to bring a smile to your face!</span></p>\n
LOCATION:Bethany Beach Bandstand
UID:e.2126.43890
SEQUENCE:3
DTSTAMP:20260421T203418Z
URL:https://business.thequietresorts.com/events/details/seaside-concert-series-mr-jon-and-friends-43890
END:VEVENT

END:VCALENDAR
