BEGIN:VCALENDAR
VERSION:2.0
PRODID:-//ChamberMaster//Event Calendar 2.0//EN
METHOD:PUBLISH
X-PUBLISHED-TTL:P3D
REFRESH-INTERVAL:P3D
CALSCALE:GREGORIAN
BEGIN:VEVENT
DTSTART:20260716T233000Z
DTEND:20260717T010000Z
X-MICROSOFT-CDO-ALLDAYEVENT:FALSE
SUMMARY:Seaside Concert Series - Larger than Life
DESCRIPTION:Larger Than Life is known as the #1 Boyband experience in the country! This is the only act of its kind to have been on tour with *NSYNC\, O-Town\, 98 Degrees\, LFO\, TKA\, and more!\n\n Featuring actual boyband-style singing\, dancing\, and that iconic pop look. Larger Than Life will take you back in time with the biggest 90s party since the Backstreet Boys shut down Times Square. This is not a jam band\, not a musical parody\, but a real nostalgic concert experience. Performing songs by the Backstreet Boys\, *NSYNC\, New Kids on the Block\, 98 Degrees\, O-Town\, Boyz II Men\, LFO\, One Direction\, and many more! And for extra fun\, the boyz take us even way back with hits by the Jackson 5\, Temptations\, Four Seasons\, and other classic male groups\, truly making this the Ultimate Boyband Tribute!
X-ALT-DESC;FMTTYPE=text/html:<p><span style="font-size:16px\;">Larger Than Life is known as the #1 Boyband experience in the country! This is the only act of its kind to have been on tour with *NSYNC\, O-Town\, 98 Degrees\,&nbsp\;LFO\,&nbsp\;TKA\, and more!</span></p>\n\n<p><span style="font-size:16px\;">&nbsp\;Featuring actual boyband-style singing\, dancing\, and that iconic pop look. Larger Than Life will take you back in time with the biggest 90s party since the Backstreet Boys shut down Times Square. This is not a jam band\, not a musical parody\, but a real nostalgic concert experience. Performing songs by the Backstreet Boys\, *NSYNC\, New Kids on the Block\, 98 Degrees\, O-Town\, Boyz II Men\, LFO\, One Direction\, and many more! And for extra fun\, the boyz take us even way back with hits by the Jackson 5\, Temptations\, Four Seasons\, and other classic male groups\, truly making this the Ultimate Boyband Tribute!</span></p>\n
LOCATION:Bethany Beach Bandstand
UID:e.2126.43898
SEQUENCE:3
DTSTAMP:20260421T203418Z
URL:https://business.thequietresorts.com/events/details/seaside-concert-series-larger-than-life-43898
END:VEVENT

END:VCALENDAR
