BEGIN:VCALENDAR
VERSION:2.0
PRODID:-//ChamberMaster//Event Calendar 2.0//EN
METHOD:PUBLISH
X-PUBLISHED-TTL:P3D
REFRESH-INTERVAL:P3D
CALSCALE:GREGORIAN
BEGIN:VEVENT
DTSTART:20260725T230000Z
DTEND:20260726T010000Z
X-MICROSOFT-CDO-ALLDAYEVENT:FALSE
SUMMARY:Seaside Concert Series - Kayleigh Clark with special guests Stephanie Bell and Little Rock
DESCRIPTION:Born in Sumrall\, Mississippi\, Kayleigh Clark found her passion for music at a young age\, first singing in church before stepping onto local festival and competition stages across her home state. With a natural gift for storytelling and a voice that resonates with honesty\, she quickly earned recognition for her heartfelt performances and captivating stage presence.\n\nKayleigh first reached a national audience on Season 21 of American Idol\, where she advanced to Hollywood Week and placed in the Top 55. \n\nShe gained national attention as a standout contestant on Season 28 of The Voice\, competing as a member of Team Niall Horan and earning recognition for her emotional performances and authentic storytelling. Following her time on the show\, Kayleigh returned to Nashville to focus on writing and recording new music that reflects both her small-town roots and her evolution as an artist. With new releases on the horizon\, she is also preparing to hit the road\, bringing her powerful live show to audiences nationwide as she continues to build momentum as a rising voice in country music.\n\nOpening act is Nashville Recording Artist\, Stephanie Bell with Little Rock and an hour of line dancing.
X-ALT-DESC;FMTTYPE=text/html:<p><span style="font-size:16px\;">Born in Sumrall\, Mississippi\, Kayleigh Clark found her passion for music at a young age\, first singing in church before stepping onto local festival and competition stages across her home state. With a natural gift for storytelling and a voice that resonates with honesty\, she quickly earned recognition for her heartfelt performances and captivating stage presence.</span></p>\n\n<p><span style="font-size:16px\;">Kayleigh first reached a national audience on Season 21 of American Idol\, where she advanced to Hollywood Week and placed in the Top 55.&nbsp\;</span></p>\n\n<p><span style="font-size:16px\;">She gained national attention as a standout contestant on Season 28 of The Voice\, competing as a member of Team Niall Horan and earning recognition for her emotional performances and authentic storytelling. Following her time on the show\, Kayleigh returned to Nashville to focus on writing and recording new music that reflects both her small-town roots and her evolution as an artist. With new releases on the horizon\, she is also preparing to hit the road\, bringing her powerful live show to audiences nationwide as she continues to build momentum as a rising voice in country music.</span></p>\n\n<p><span style="font-size:16px\;"><em><strong>Opening act is Nashville Recording Artist\, Stephanie Bell with Little Rock and an hour of line dancing.</strong></em></span></p>\n
LOCATION:Bethany Beach Bandstand
UID:e.2126.43902
SEQUENCE:3
DTSTAMP:20260421T203527Z
URL:https://business.thequietresorts.com/events/details/seaside-concert-series-kayleigh-clark-with-special-guests-stephanie-bell-and-little-rock-43902
END:VEVENT

END:VCALENDAR
