BEGIN:VCALENDAR
VERSION:2.0
PRODID:-//ChamberMaster//Event Calendar 2.0//EN
METHOD:PUBLISH
X-PUBLISHED-TTL:P3D
REFRESH-INTERVAL:P3D
CALSCALE:GREGORIAN
BEGIN:VEVENT
DTSTART:20260718T233000Z
DTEND:20260719T010000Z
X-MICROSOFT-CDO-ALLDAYEVENT:FALSE
SUMMARY:Seaside Concert Series - Kategory 5
DESCRIPTION:Kategory 5 are a classic rock band covering the best of rock\, blues\, R&B and pop music from the 1970s (give or take a decade).   With female and male lead vocals\, keyboards and dual lead guitarists\, killer bass and drums\, Kategory 5 are able to perform the most challenging music from the classic rock era.
X-ALT-DESC;FMTTYPE=text/html:<p><span style="font-size:16px"><small><span style="font-family:open sans\,arial\,sans-serif">Kategory 5 are a classic rock band covering the best of rock\, blues\, R&amp\;B and pop music from the 1970s (give or take a decade).&nbsp\;&nbsp\; With female and male lead vocals\, keyboards and dual lead guitarists\, killer bass and drums\, Kategory 5 are able to perform the most challenging music from the classic rock era.</span></small></span></p>\n
LOCATION:Bethany Beach Bandstand
UID:e.2126.43899
SEQUENCE:3
DTSTAMP:20260421T203323Z
URL:https://business.thequietresorts.com/events/details/seaside-concert-series-kategory-5-43899
END:VEVENT

END:VCALENDAR
