BEGIN:VCALENDAR
VERSION:2.0
PRODID:-//ChamberMaster//Event Calendar 2.0//EN
METHOD:PUBLISH
X-PUBLISHED-TTL:P3D
REFRESH-INTERVAL:P3D
CALSCALE:GREGORIAN
BEGIN:VEVENT
DTSTART:20260727T233000Z
DTEND:20260728T010000Z
X-MICROSOFT-CDO-ALLDAYEVENT:FALSE
SUMMARY:Seaside Concert Series - Jerico (Perier’s Day)
DESCRIPTION:Jerico Rockabilly Quartet is a Key West based band known for their lively rockabilly sound. They're a local KW favorite\, often performing at iconic venues like Sunset Pier and Sloppy Joe's Bar.\n\nThe band's founder\, Jerrod Isaman\, is from Olean\, New York. His father was a rock guitar musician but his first music mentor was his grandmother who was a huge Hank Williams fan. Jerrod never had a formal lesson but plays guitar\, accordion and piano.\n\nHe was traveling around the Northeast\, playing acoustic guitar folk music and met some musicians in Philadelphia. They got along and began playing together. His new friends had planned a trip to Key West in 2008 and invited Jerrod to join them. Jerrod met some of the Key West characters and immediately decided to stay.\n\nOver the years\, Isaman has been instrumental in putting together a number of very successful bands in Key West: The Love Lane Gang\, Patrick and the Swayzees\, Billy the Squid and the Sea Cow Drifters\, Coconut Victrola and\, currently\, Jerico. He has always been drawn to the music of early rock 'n' roll eras\, especially the rockabilly genre with its country roots that was part of his grandmother's influence.\n\nAt this year's Key West Music Awards\, Jerrod was presented with two honors   Mentor of the Year and Entertainer of the Year.
X-ALT-DESC;FMTTYPE=text/html:<p><span style="font-size:16px\;"><strong>Jerico</strong>&nbsp\;<strong>Rockabilly</strong>&nbsp\;<strong>Quartet</strong>&nbsp\;is a Key West&ndash\;based band known for their lively rockabilly sound. They&rsquo\;re a local KW&nbsp\;favorite\, often performing at iconic venues like Sunset Pier and Sloppy Joe&rsquo\;s Bar.</span></p>\n\n<p><span style="font-size:16px\;">The band&rsquo\;s founder\,&nbsp\;Jerrod Isaman\, is from Olean\, New York. His father was a rock guitar musician but his first music mentor was his grandmother who was a huge Hank Williams fan. Jerrod never had a formal lesson but plays guitar\, accordion and piano.</span></p>\n\n<p><span style="font-size:16px\;">He was traveling around the Northeast\, playing acoustic guitar folk music and met some musicians in Philadelphia. They got along and began playing together. His new friends had planned a trip to Key West in 2008 and invited Jerrod to join them. Jerrod met some of the Key West characters and immediately decided to stay.</span></p>\n\n<p><span style="font-size:16px\;">Over the years\, Isaman has been instrumental in putting together a number of very successful bands in Key West: The Love Lane Gang\, Patrick and the Swayzees\, Billy the Squid and the Sea Cow Drifters\, Coconut Victrola and\, currently\, Jerico. He has always been drawn to the music of early rock &lsquo\;n&rsquo\; roll eras\, especially the rockabilly genre with its country roots that was part of his grandmother&rsquo\;s influence.</span></p>\n\n<p><span style="font-size:16px\;">At this year&rsquo\;s Key West Music Awards\, Jerrod was presented with two honors &mdash\; Mentor of the Year and Entertainer of the Year.</span></p>\n
LOCATION:Bethany Beach Bandstand
UID:e.2126.43903
SEQUENCE:3
DTSTAMP:20260421T203322Z
URL:https://business.thequietresorts.com/events/details/seaside-concert-series-jerico-perier-s-day-43903
END:VEVENT

END:VCALENDAR
