BEGIN:VCALENDAR
VERSION:2.0
PRODID:-//ChamberMaster//Event Calendar 2.0//EN
METHOD:PUBLISH
X-PUBLISHED-TTL:P3D
REFRESH-INTERVAL:P3D
CALSCALE:GREGORIAN
BEGIN:VEVENT
DTSTART:20260708T220000Z
DTEND:20260708T233000Z
X-MICROSOFT-CDO-ALLDAYEVENT:FALSE
SUMMARY:Seaside Concert Series - Hello Sister
DESCRIPTION:PLEASE NOTE 6 PM START TIME FOR THIS EVENT.\n\n\n\nHello Sister is a powerhouse Pop Rock band from Orlando\, FL   made up of the multi-talented sister trio: Grace\, Gabriella\, and Scarlett. Known for their high-energy sound and authentic style\, they've built a loyal fanbase through a series of catchy single releases\, national tours\, and a memorable appearance on America's Got Talent.\n\nTheir latest singles\, including "Naive\," "Empty Motive\," and "17 and All Over Again\," showcase their signature blend of edgy pop and rock influences. They've also hit major stages like the iHeartRadio Jingle Ball and collaborated with brands like Dove Hair Care. Most recently\, they wrote "The Gift" for #1 New York Times bestselling author Jennifer Weiner's novel Griffin Sisters' Greatest Hits.\n\nBeyond the music\, Hello Sister is passionate about giving back   performing for Ryan Seacrest Studios at children's hospitals nationwide and supporting causes like THON at UCF's Dance Marathon for Children's Miracle Network. Wherever they go\, they're inspiring the next generation to dream big\, stay true\, and rock out.
X-ALT-DESC;FMTTYPE=text/html:<p><span style="font-size:16px\;"><em><strong>PLEASE NOTE 6 PM START TIME FOR THIS EVENT.</strong></em><br />\n<br />\nHello Sister is a powerhouse Pop Rock band from Orlando\, FL &mdash\; made up of the multi-talented sister trio: Grace\, Gabriella\, and Scarlett. Known for their high-energy sound and authentic style\, they&rsquo\;ve built a loyal fanbase through a series of catchy single releases\, national tours\, and a memorable appearance on&nbsp\;<em>America&rsquo\;s Got Talent</em>.</span></p>\n\n<p><span style="font-size:16px\;">Their latest singles\, including&nbsp\;<em>&ldquo\;Naive\,&rdquo\;</em>&nbsp\;<em>&ldquo\;Empty Motive\,&rdquo\;</em>&nbsp\;and&nbsp\;<em>&ldquo\;17 and All Over Again\,&rdquo\;</em>&nbsp\;showcase their signature blend of edgy pop and rock influences. They&rsquo\;ve also hit major stages like the iHeartRadio Jingle Ball and collaborated with brands like Dove Hair Care. Most recently\, they wrote&nbsp\;<em>&ldquo\;The Gift&rdquo\;</em>&nbsp\;for #1 New York Times bestselling author Jennifer Weiner&rsquo\;s novel&nbsp\;<em>Griffin Sisters&rsquo\; Greatest Hits</em>.</span></p>\n\n<p><span style="font-size:16px\;">Beyond the music\, Hello Sister is passionate about giving back &mdash\; performing for Ryan Seacrest Studios at children&rsquo\;s hospitals nationwide and supporting causes like THON at UCF&rsquo\;s Dance Marathon for Children&rsquo\;s Miracle Network. Wherever they go\, they&rsquo\;re inspiring the next generation to dream big\, stay true\, and rock out.</span></p>\n
LOCATION:Bethany Beach Bandstand
UID:e.2126.43894
SEQUENCE:3
DTSTAMP:20260421T203340Z
URL:https://business.thequietresorts.com/events/details/seaside-concert-series-hello-sister-43894
END:VEVENT

END:VCALENDAR
