BEGIN:VCALENDAR
VERSION:2.0
PRODID:-//ChamberMaster//Event Calendar 2.0//EN
METHOD:PUBLISH
X-PUBLISHED-TTL:P3D
REFRESH-INTERVAL:P3D
CALSCALE:GREGORIAN
BEGIN:VEVENT
DTSTART:20260630T233000Z
DTEND:20260701T010000Z
X-MICROSOFT-CDO-ALLDAYEVENT:FALSE
SUMMARY:Seaside Concert Series - Flying Ivories
DESCRIPTION:The Flying Ivories belt out an all-request dueling piano show that's part music\, part comedy\, and all fun. Why? The audience controls the set list! Whether you like Billy Joel or Beyonc \, Johnny Cash or Katy Perry\, Sinatra or Metallica\, they've got it covered. Get ready to sing\, clap\, and laugh along with The Flying Ivories!
X-ALT-DESC;FMTTYPE=text/html:<span style="font-size:16px\;"><span style="background-color: rgba(255\, 255\, 255\, 0.95)\; color: rgb(68\, 68\, 68)\; font-family: arial\;">The Flying Ivories belt out an all-request dueling piano show that&#39\;s part music\, part comedy\, and all fun. Why? The audience controls the set list! Whether you like Billy Joel or Beyonc&eacute\;\, Johnny Cash or Katy Perry\, Sinatra or Metallica\, they&rsquo\;ve got it covered. Get ready to sing\, clap\, and laugh along with The Flying Ivories!&nbsp\;&nbsp\;</span></span>
LOCATION:Bethany Beach Bandstand
UID:e.2126.43889
SEQUENCE:3
DTSTAMP:20260421T190004Z
URL:https://business.thequietresorts.com/events/details/seaside-concert-series-flying-ivories-43889
END:VEVENT

END:VCALENDAR
