BEGIN:VCALENDAR
VERSION:2.0
PRODID:-//ChamberMaster//Event Calendar 2.0//EN
METHOD:PUBLISH
X-PUBLISHED-TTL:P3D
REFRESH-INTERVAL:P3D
CALSCALE:GREGORIAN
BEGIN:VEVENT
DTSTART:20260628T233000Z
DTEND:20260629T010000Z
X-MICROSOFT-CDO-ALLDAYEVENT:FALSE
SUMMARY:Seaside Concert Series - DJ Bump Dance Party
DESCRIPTION:DJ Bump: invites you to celebrate the music that defined each generation. From early rock 'n' roll and Motown classics to disco\, pop\, hip-hop\, country\, and today's crowd-favorites\, DJ Bump delivers a high-energy\, feel-good soundtrack that brings the nation's story to life on the Bandstand.
X-ALT-DESC;FMTTYPE=text/html:<span style="font-size:16px\;">DJ Bump:&nbsp\;<span style="background-color: rgba(255\, 255\, 255\, 0.95)\; color: rgb(68\, 68\, 68)\; font-family: arial\;">invites you to celebrate the music that defined each generation. From early rock &rsquo\;n&rsquo\; roll and Motown classics to disco\, pop\, hip-hop\, country\, and today&rsquo\;s crowd-favorites\, DJ Bump delivers a high-energy\, feel-good soundtrack that brings the nation&rsquo\;s story to life on the Bandstand.</span></span>
LOCATION:Bethany Beach Bandstand
UID:e.2126.43888
SEQUENCE:3
DTSTAMP:20260421T184508Z
URL:https://business.thequietresorts.com/events/details/seaside-concert-series-dj-bump-dance-party-43888
END:VEVENT

END:VCALENDAR
