BEGIN:VCALENDAR
VERSION:2.0
PRODID:-//ChamberMaster//Event Calendar 2.0//EN
METHOD:PUBLISH
X-PUBLISHED-TTL:P3D
REFRESH-INTERVAL:P3D
CALSCALE:GREGORIAN
BEGIN:VEVENT
DTSTART:20260709T233000Z
DTEND:20260710T010000Z
X-MICROSOFT-CDO-ALLDAYEVENT:FALSE
SUMMARY:Seaside Concert Series - Decade 80
DESCRIPTION:Decade80 is the musical phenomenon that dares to claim "we own the 80s"\, and once you experience their bold and electrifying performances\, you'll understand why. Join their prolific fanbase\, Headband Nation\, as Decade80 takes you back to the 80s with the energy and dynamism that defined the decade. Through a combination of these factors along with their own youthfulness\, Decade80 uniquely ignites a new relevancy to the 80s across an age demographic broader than those who lived through the decade alone\, commanding and inspiring audiences of all ages. Known especially for their engaging presence\, supreme musicianship\, and unmistakable faithfulness to the music of the 80s\, they embody the soundtrack and spirit of the greatest musical decade.
X-ALT-DESC;FMTTYPE=text/html:<span style="font-size:16px\;"><span style="background-color: rgba(255\, 255\, 255\, 0.95)\; color: rgb(68\, 68\, 68)\; font-family: arial\;">Decade80 is the musical phenomenon that dares to claim &ldquo\;we own the 80s&rdquo\;\, and once you experience their bold and electrifying performances\, you&rsquo\;ll understand why. Join their prolific fanbase\, Headband Nation\, as Decade80 takes you back to the 80s with the energy and dynamism that defined the decade. Through a combination of these factors along with their own youthfulness\, Decade80 uniquely ignites a new relevancy to the 80s across an age demographic broader than those who lived through the decade alone\, commanding and inspiring audiences of all ages. Known especially for their engaging presence\, supreme musicianship\, and unmistakable faithfulness to the music of the 80s\, they embody the soundtrack and spirit of the greatest musical decade.</span></span>
LOCATION:Bethany Beach Bandstand
UID:e.2126.43895
SEQUENCE:3
DTSTAMP:20260421T203325Z
URL:https://business.thequietresorts.com/events/details/seaside-concert-series-decade-80-43895
END:VEVENT

END:VCALENDAR
