BEGIN:VCALENDAR
VERSION:2.0
PRODID:-//ChamberMaster//Event Calendar 2.0//EN
METHOD:PUBLISH
X-PUBLISHED-TTL:P3D
REFRESH-INTERVAL:P3D
CALSCALE:GREGORIAN
BEGIN:VEVENT
DTSTART:20260711T233000Z
DTEND:20260712T010000Z
X-MICROSOFT-CDO-ALLDAYEVENT:FALSE
SUMMARY:Seaside Concert Series - Charlie & The Cool Tones
DESCRIPTION:This band plays unique covers of classic rock\, rhythm and blues\, funk\, and country tunes that you love but aren't overplayed.  Strong melodies\, smokin' horns and stompin' rhythms\, will pull you from your seat to the dance floor.
X-ALT-DESC;FMTTYPE=text/html:<span style="font-size:16px\;"><span style="background-color: rgba(255\, 255\, 255\, 0.95)\; color: rgb(68\, 68\, 68)\; font-family: arial\;">This band plays unique covers of classic rock\, rhythm and blues\, funk\, and country tunes that you love but aren&rsquo\;t overplayed. &nbsp\;Strong melodies\, smokin&rsquo\; horns and stompin&rsquo\; rhythms\, will pull you from your seat to the dance floor.&nbsp\;</span></span>
LOCATION:Bethany Beach Bandstand
UID:e.2126.43896
SEQUENCE:3
DTSTAMP:20260421T203418Z
URL:https://business.thequietresorts.com/events/details/seaside-concert-series-charlie-the-cool-tones-43896
END:VEVENT

END:VCALENDAR
