BEGIN:VCALENDAR
VERSION:2.0
PRODID:-//ChamberMaster//Event Calendar 2.0//EN
METHOD:PUBLISH
X-PUBLISHED-TTL:P3D
REFRESH-INTERVAL:P3D
CALSCALE:GREGORIAN
BEGIN:VEVENT
DTSTART:20260715T220000Z
DTEND:20260715T233000Z
X-MICROSOFT-CDO-ALLDAYEVENT:FALSE
SUMMARY:Seaside Concert Series - Beauty and the Beats
DESCRIPTION:PLEASE NOTE 6 PM START TIME FOR THIS EVENT.\n\n\n\nStep into a world where fairytales meet the dance floor. Beauty & The Beats is a high-energy\, interactive live show that blends beloved storybook characters with today's biggest hits and Disney-inspired favorites. Featuring a captivating cast of characters including a princess host and her mischievous pirate sidekicks the show takes audiences on a musical journey filled with live vocals\, storytelling\, and crowd participation. From "Part of Your World" and "Let It Go" to modern pop anthems and dance remixes\, Beauty & The Beats transforms any space into a magical celebration where kids and families don't just watch they sing\, dance\, and become part of the story. Perfect for theme parks\, festivals\, and family events\, this unique production combines theatrical charm with concert-level energy\, creating unforgettable moments for audiences of all ages.
X-ALT-DESC;FMTTYPE=text/html:<span style="font-size:16px\;"><em><strong>PLEASE NOTE 6 PM START TIME FOR THIS EVENT.</strong></em><br />\n<br />\n<span style="background-color: rgba(255\, 255\, 255\, 0.95)\; color: rgb(68\, 68\, 68)\; font-family: arial\;">Step into a world where fairytales meet the dance floor. Beauty &amp\; The Beats is a high-energy\, interactive live show that blends beloved storybook characters with today&rsquo\;s biggest hits and Disney-inspired favorites. Featuring a captivating cast of characters&mdash\;including a princess host and her mischievous pirate sidekicks&mdash\;the show takes audiences on a musical journey filled with live vocals\, storytelling\, and crowd participation. From &ldquo\;Part of Your World&rdquo\; and &ldquo\;Let It Go&rdquo\; to modern pop anthems and dance remixes\, Beauty &amp\; The Beats transforms any space into a magical celebration where kids and families don&rsquo\;t just watch&mdash\;they sing\, dance\, and become part of the story. Perfect for theme parks\, festivals\, and family events\, this unique production combines theatrical charm with concert-level energy\, creating unforgettable moments for audiences of all ages.</span></span>
LOCATION:Bethany Beach Bandstand
UID:e.2126.43897
SEQUENCE:3
DTSTAMP:20260421T203506Z
URL:https://business.thequietresorts.com/events/details/seaside-concert-series-beauty-and-the-beats-43897
END:VEVENT

END:VCALENDAR
