BEGIN:VCALENDAR
VERSION:2.0
PRODID:-//ChamberMaster//Event Calendar 2.0//EN
METHOD:PUBLISH
X-PUBLISHED-TTL:P3D
REFRESH-INTERVAL:P3D
CALSCALE:GREGORIAN
BEGIN:VEVENT
DTSTART:20260625T233000Z
DTEND:20260626T010000Z
X-MICROSOFT-CDO-ALLDAYEVENT:FALSE
SUMMARY:Seaside Concert Series - A Night of Motown
DESCRIPTION:In the early 1960's\, Detroit MI\, America's legendary Motor City became the birthplace of some of the most iconic names in popular music. 'A Night of Motown' pays tribute to that golden era\, celebrating the iconic artists\, nostalgic songs\, and the timeless style that shaped generations.\n\nThis dynamic show delivers fully choreographed\, sharply costumed performances honoring both classic male and female Motown groups and acts\, all backed by a world class live band. The experience includes The Fabulous Crooners Doo-Wop singers and TFC Band & Show\, giving your event the unmatched versatility and excitement audiences crave.\n\n'A Night Of Motown' brings to life the essence of The Temptations\, Gladys Knight & The Pips\, Marvin Gaye & Tammi Terrell\, Smokey Robinson & The Miracles\, The Four Tops\, Diana Ross & The Supremes\, James Brown\, Tina Turner and many more.\n\nPerfect for seated theater performances\, themed events\, anniversaries\, conventions\, and casino showrooms\, this unforgettable show takes guests on the ultimate stroll down memory lane. Relive the soulful harmonies\, iconic charisma and smooth choreography of the greatest recording artists of all time with 'A Night Of Motown'.
X-ALT-DESC;FMTTYPE=text/html:<p><span style="font-size:16px\;">In the early 1960&rsquo\;s\, Detroit MI\, America&rsquo\;s legendary Motor City became the birthplace of some of the most iconic names in popular music. &lsquo\;A Night of Motown&rsquo\; pays tribute to that golden era\, celebrating the iconic artists\, nostalgic songs\, and the timeless style that shaped generations.</span></p>\n\n<p><span style="font-size:16px\;">This dynamic show delivers fully choreographed\, sharply costumed performances honoring both classic male and female Motown groups and acts\, all backed by a world class live band. The experience includes The Fabulous Crooners Doo-Wop singers and TFC Band &amp\; Show\, giving your event the unmatched versatility and excitement audiences crave.</span></p>\n\n<p><span style="font-size:16px\;">&lsquo\;A Night Of Motown&rsquo\; brings to life the essence of The Temptations\, Gladys Knight &amp\; The Pips\, Marvin Gaye &amp\; Tammi Terrell\, Smokey Robinson &amp\; The Miracles\, The Four Tops\, Diana Ross &amp\; The Supremes\, James Brown\, Tina Turner and many more.</span></p>\n\n<p><span style="font-size:16px\;">Perfect for seated theater performances\, themed events\, anniversaries\, conventions\, and casino showrooms\, this unforgettable show takes guests on the ultimate stroll down memory lane. Relive the soulful harmonies\, iconic charisma and smooth choreography of the greatest recording artists of all time with &lsquo\;A Night Of Motown&rsquo\;.</span></p>\n
LOCATION:Bethany Beach Bandstand
UID:e.2126.43887
SEQUENCE:3
DTSTAMP:20260421T190053Z
URL:https://business.thequietresorts.com/events/details/seaside-concert-series-a-night-of-motown-43887
END:VEVENT

END:VCALENDAR
