BEGIN:VCALENDAR
VERSION:2.0
PRODID:-//ChamberMaster//Event Calendar 2.0//EN
METHOD:PUBLISH
X-PUBLISHED-TTL:P3D
REFRESH-INTERVAL:P3D
CALSCALE:GREGORIAN
BEGIN:VEVENT
DTSTART:20260702T233000Z
DTEND:20260703T010000Z
X-MICROSOFT-CDO-ALLDAYEVENT:FALSE
SUMMARY:Seaside Concert Series - 287th Army Band
DESCRIPTION:Formed in 1921\, the 287th Army Band served in the Pacific Theater in WWII and abroad\, most recently\, in Germany. The concert band will be playing a variety of music including well-known marches\, popular music\, smooth jazz\, Americana music\, and NOLA-style brass.  Be sure to cheer for their marching band in our 4th of July parade.
X-ALT-DESC;FMTTYPE=text/html:<span style="font-size:16px\;"><span style="background-color: rgba(255\, 255\, 255\, 0.95)\; color: rgb(68\, 68\, 68)\; font-family: arial\;">Formed in 1921\, the 287th&nbsp\;Army Band served in the Pacific Theater in WWII and abroad\, most recently\, in Germany. The&nbsp\;concert band will be playing a variety of music including well-known marches\, popular music\, smooth jazz\, Americana music\, and NOLA-style brass. &nbsp\;Be sure to cheer for their marching band in our 4</span><span style="background-color: rgba(255\, 255\, 255\, 0.95)\; color: rgb(68\, 68\, 68)\; font-family: arial\;">th</span><span style="background-color: rgba(255\, 255\, 255\, 0.95)\; color: rgb(68\, 68\, 68)\; font-family: arial\;">&nbsp\;of July parade.&nbsp\;</span></span>
LOCATION:Bethany Beach Bandstand
UID:e.2126.43891
SEQUENCE:3
DTSTAMP:20260421T203338Z
URL:https://business.thequietresorts.com/events/details/seaside-concert-series-287th-army-band-43891
END:VEVENT

END:VCALENDAR
