BEGIN:VCALENDAR
VERSION:2.0
PRODID:-//ChamberMaster//Event Calendar 2.0//EN
METHOD:PUBLISH
X-PUBLISHED-TTL:P3D
REFRESH-INTERVAL:P3D
CALSCALE:GREGORIAN
BEGIN:VEVENT
DTSTART:20260421T160000Z
DTEND:20260421T173000Z
X-MICROSOFT-CDO-ALLDAYEVENT:FALSE
SUMMARY:SCORE Live Small Business Webinar-Bookkeeping for Small Business
DESCRIPTION:Join this webinar to learn practical\, real-world strategies for managing your own bookkeeping with confidence.\nRetired CPA and Certified SCORE mentor Cornel Mhley will guide you through:\n\n\n	Setting up your books properly from Day 1 (even if you're DIYing)\n	Reconciling accounts and catching errors before they grow\n	Understanding your Profit & Loss and what it's really telling you\n\n\nWalk away with clear\, actionable steps you can implement immediately\n\n\n\nAbout the presenter: Cornel Mhley is a retired Certified Public Accountant with 40 years of experience. Cornel's primary responsibilities on behalf of small business clients have included the satisfactory completion of accounting and tax compliance and planning\, and the handling of inquiries from federal and state regulatory agencies.
X-ALT-DESC;FMTTYPE=text/html:<span style="font-weight: bolder\; color: rgb(70\, 70\, 72)\; font-family: Lato\, Helvetica\, Arial\, &quot\;sans-serif&quot\;\; font-size: 20px\;">Join this webinar to learn practical\, real-world strategies for managing your own bookkeeping with confidence.</span>\n<p style="box-sizing: border-box\; border-width: 0px\; border-style: solid\; border-color: currentcolor\; margin: 0px\; font-family: Lato\, Helvetica\, Arial\, &quot\;sans-serif&quot\;\; font-size: 20px\; line-height: 28px\; color: rgb(70\, 70\, 72)\; margin-block: 24px\; background-color: rgb(255\, 255\, 255)\;">Retired CPA and Certified SCORE mentor&nbsp\;<span style="box-sizing: border-box\; border-width: 0px\; border-style: solid\; border-color: currentcolor\; font-weight: bolder\; margin: 0px\; line-height: 28px\;">Cornel Mhley</span>&nbsp\;will guide you through:</p>\n\n<ul style="box-sizing: border-box\; border-width: 0px\; border-style: solid\; border-color: currentcolor\; list-style: disc\; margin: 0px\; padding: 0px 40px\; margin-block: 24px\; font-family: ui-sans-serif\, system-ui\, sans-serif\, &quot\;Apple Color Emoji&quot\;\, &quot\;Segoe UI Emoji&quot\;\, &quot\;Segoe UI Symbol&quot\;\, &quot\;Noto Color Emoji&quot\;\; background-color: rgb(255\, 255\, 255)\;">\n	<li style="box-sizing: border-box\; border-width: 0px\; border-style: solid\; border-color: currentcolor\; margin: 0px\; font-family: Lato\, Helvetica\, Arial\, &quot\;sans-serif&quot\;\; font-size: 20px\; line-height: 28px\; color: rgb(70\, 70\, 72)\; margin-block: 24px\; background-color: rgb(255\, 255\, 255)\;">Setting up your books properly from Day 1 (even if you&rsquo\;re DIYing)</li>\n	<li style="box-sizing: border-box\; border-width: 0px\; border-style: solid\; border-color: currentcolor\; padding-left: 12px\; font-family: Lato\, Helvetica\, Arial\, &quot\;sans-serif&quot\;\; line-height: 28px\; color: rgb(70\, 70\, 72)\; font-size: 18px\; margin-block-end: 1rem\;">Reconciling accounts and catching errors before they grow</li>\n	<li style="box-sizing: border-box\; border-width: 0px\; border-style: solid\; border-color: currentcolor\; padding-left: 12px\; font-family: Lato\, Helvetica\, Arial\, &quot\;sans-serif&quot\;\; line-height: 28px\; color: rgb(70\, 70\, 72)\; font-size: 18px\;">Understanding your Profit &amp\; Loss and what it&rsquo\;s really telling you</li>\n</ul>\n\n<p style="box-sizing: border-box\; border-width: 0px\; border-style: solid\; border-color: currentcolor\; margin: 0px\; font-family: Lato\, Helvetica\, Arial\, &quot\;sans-serif&quot\;\; font-size: 20px\; line-height: 28px\; color: rgb(70\, 70\, 72)\; margin-block: 24px\; background-color: rgb(255\, 255\, 255)\;">Walk away with&nbsp\;<span style="box-sizing: border-box\; border-width: 0px\; border-style: solid\; border-color: currentcolor\; font-weight: bolder\; margin: 0px\; line-height: 28px\;">clear\, actionable steps</span>&nbsp\;you can implement immediately<br />\n<br />\nAbout the presenter:&nbsp\;<span style="color: rgb(70\, 70\, 72)\; font-family: Lato\, Helvetica\, Arial\, &quot\;sans-serif&quot\;\; background-color: rgb(255\, 255\, 255)\; font-size: 18px\;">Cornel Mhley is a retired Certified Public Accountant with 40 years of experience. Cornel&rsquo\;s primary responsibilities on behalf of small business clients have included the satisfactory completion of accounting and tax compliance and planning\, and the handling of inquiries from federal and state regulatory agencies.</span></p>\n
LOCATION:
UID:e.2126.44046
SEQUENCE:3
DTSTAMP:20260421T141506Z
URL:https://business.thequietresorts.com/events/details/score-live-small-business-webinar-bookkeeping-for-small-business-44046
END:VEVENT

END:VCALENDAR
