BEGIN:VCALENDAR
VERSION:2.0
PRODID:-//ChamberMaster//Event Calendar 2.0//EN
METHOD:PUBLISH
X-PUBLISHED-TTL:P3D
REFRESH-INTERVAL:P3D
CALSCALE:GREGORIAN
BEGIN:VEVENT
DTSTART;VALUE=DATE:20260305
DTEND;VALUE=DATE:20260321
TRANSP:TRANSPARENT
X-MICROSOFT-CDO-ALLDAYEVENT:TRUE
SUMMARY:SAVE THE DATE - WILD WINE WEEK
DESCRIPTION:Wild Wine Week is almost here. Save the date and prepare your cellars.\n\nSaturday March 21st - March 28th\n\n20% off all cases of wine 750ml & 1.5L\n\nAvailable In store & Online\n\nMix & Match varietals (Not Sizes)\n\nTastings twice daily. With special appearances by Count Sebastiano (Villa Calcinaia) 03/21 12-3 & Anthony Truchard 03/26 3-5:20pm\n\nPlease\, no special orders or IOU's
X-ALT-DESC;FMTTYPE=text/html:<span style="font-size:16px\;">Wild Wine Week is almost here. Save the date and prepare your cellars.<br />\nSaturday March 21st - March 28th<br />\n20% off all cases of wine 750ml &amp\; 1.5L<br />\nAvailable In store &amp\; Online<br />\nMix &amp\; Match varietals (Not Sizes)<br />\nTastings twice daily. With special appearances by Count Sebastiano (Villa Calcinaia) 03/21 12-3 &amp\; Anthony Truchard 03/26 3-5:20pm<br />\nPlease\, no special orders or IOU&#39\;s</span><br />\n<br />\n&nbsp\;
LOCATION:Banks Wines & Spirits
UID:e.2126.43696
SEQUENCE:3
DTSTAMP:20260421T190528Z
URL:https://business.thequietresorts.com/events/details/save-the-date-wild-wine-week-43696
END:VEVENT

END:VCALENDAR
