BEGIN:VCALENDAR
VERSION:2.0
PRODID:-//ChamberMaster//Event Calendar 2.0//EN
METHOD:PUBLISH
X-PUBLISHED-TTL:P3D
REFRESH-INTERVAL:P3D
CALSCALE:GREGORIAN
BEGIN:VEVENT
DTSTART:20241207T150000Z
DTEND:20241207T190000Z
X-MICROSOFT-CDO-ALLDAYEVENT:FALSE
SUMMARY:Nativity Festival at Ocean View Presbyterian Church
DESCRIPTION:The annual Nativity Festival is Ocean View Presbyterian's gift to the community.  Come check out the display creche's from around the world each with it's own story to tell. The scenes on display are donated by members and friends of the church. While browsing the displays you are invited to enjoy Christmas music\, wassail and cookies.
X-ALT-DESC;FMTTYPE=text/html:The annual Nativity Festival is Ocean View Presbyterian&#39\;s gift to the community.&nbsp\; Come check out the display creche&#39\;s from around the world each with it&#39\;s own story to tell. The scenes on display are donated by members and friends of the church. While browsing the displays you are invited to enjoy Christmas music\, wassail and cookies.
LOCATION:
UID:e.2126.31893
SEQUENCE:3
DTSTAMP:20260421T141206Z
URL:https://business.thequietresorts.com/events/details/nativity-festival-at-ocean-view-presbyterian-church-12-07-2024-31893
END:VEVENT

END:VCALENDAR
