BEGIN:VCALENDAR
VERSION:2.0
PRODID:-//ChamberMaster//Event Calendar 2.0//EN
METHOD:PUBLISH
X-PUBLISHED-TTL:P3D
REFRESH-INTERVAL:P3D
CALSCALE:GREGORIAN
BEGIN:VEVENT
DTSTART:20241213T220000Z
DTEND:20241214T010000Z
X-MICROSOFT-CDO-ALLDAYEVENT:FALSE
SUMMARY:Music by Cup of Joe at Shaka Shack
DESCRIPTION:Musical performance by Cup of Joe at Shaka Shack on Friday\, December 13th from 5--8p\,
X-ALT-DESC;FMTTYPE=text/html:Musical performance by Cup of Joe at Shaka Shack on Friday\, December 13th from 5--8p\,
LOCATION:Shaka Shack 35308 Atlantic Avenue Millville\, DE 19967
UID:e.2126.31415
SEQUENCE:3
DTSTAMP:20260421T134734Z
URL:https://business.thequietresorts.com/events/details/music-by-cup-of-joe-at-shaka-shack-31415
END:VEVENT

END:VCALENDAR
