BEGIN:VCALENDAR
VERSION:2.0
PRODID:-//ChamberMaster//Event Calendar 2.0//EN
METHOD:PUBLISH
X-PUBLISHED-TTL:P3D
REFRESH-INTERVAL:P3D
CALSCALE:GREGORIAN
BEGIN:VEVENT
DTSTART:20241026T220000Z
DTEND:20241027T000000Z
X-MICROSOFT-CDO-ALLDAYEVENT:FALSE
SUMMARY:Music Bingo at Signatures!
DESCRIPTION:Come out to Signatures at Bayside for Music Bingo every Saturday from 6 - 8PM!
X-ALT-DESC;FMTTYPE=text/html:Come out to Signatures at Bayside for Music Bingo every Saturday from 6 - 8PM!&nbsp\;
LOCATION:Signatures at Bayside 12021 North Haven Drive Selbyville\, DE 19975
UID:e.2126.29016
SEQUENCE:3
DTSTAMP:20260424T180004Z
URL:https://business.thequietresorts.com/events/details/music-bingo-at-signatures-10-26-2024-29016
END:VEVENT

END:VCALENDAR
