BEGIN:VCALENDAR
VERSION:2.0
PRODID:-//ChamberMaster//Event Calendar 2.0//EN
METHOD:PUBLISH
X-PUBLISHED-TTL:P3D
REFRESH-INTERVAL:P3D
CALSCALE:GREGORIAN
BEGIN:VEVENT
DTSTART:20260520T203000Z
DTEND:20260520T223000Z
X-MICROSOFT-CDO-ALLDAYEVENT:FALSE
SUMMARY:May 2026 Business After Hours at Bethany Boathouse
DESCRIPTION:The BFACC's May Business After Hours is at Bethany Boathouse!  Join us on Wednesday\, May 20th\, from 4:30 - 6:30 PM for lite fare by Bethany Boathouse\, networking\, and beneficiary check presentations for the 2026 Ocean to Bay Bike Tour.  We encourage all sponsors\, volunteers\, and partners of the Ocean to Bay Bike Tour to attend this event and help celebrate the charitable contributions riased for local nonprofits!\n\n\n\nChamber Business After Hours are the largest networking events we organize!  Any representative from your business is welcome to attend and meet other professionals in the area.  Be sure to bring your business cards\, and bring a door prize for some extra exposure!\n\n\n\nThere are three great Business Spotlight sponsors who will be at the event.  Stop by on the 20th to learn more about Beebe Healthcare\, the Freeman Arts Pavilion\, and Delaware Beach Life Magazine!
X-ALT-DESC;FMTTYPE=text/html:The BFACC&#39\;s May Business After Hours is at Bethany Boathouse!&nbsp\; Join us on Wednesday\, May 20th\, from 4:30 - 6:30 PM for lite fare by Bethany Boathouse\, networking\, and beneficiary check presentations for the 2026 Ocean to Bay Bike Tour.&nbsp\; <strong>We encourage all sponsors\, volunteers\, and partners of the Ocean to Bay Bike Tour to attend this event and help celebrate the charitable contributions riased for local nonprofits!</strong><br />\n<br />\nChamber Business After Hours are the largest networking events we organize!&nbsp\; Any representative from your business is welcome to attend and meet other professionals in the area.&nbsp\; Be sure to bring your business cards\, and bring a door prize for some extra exposure!<br />\n<br />\nThere are three great Business Spotlight sponsors who will be at the event.&nbsp\; Stop by on the 20th to learn more about <a href="https://www.beebehealthcare.org/">Beebe Healthcare</a>\, the <a href="https://www.freemanarts.org/">Freeman Arts Pavilion</a>\, and <a href="https://www.delawarebeachlife.com/">Delaware Beach Life Magazine!</a>
LOCATION:Bethany Boathouse 39817 Hickman Plaza Rd. Bethany Beach\, DE
UID:e.2126.44044
SEQUENCE:3
DTSTAMP:20260421T171605Z
URL:https://business.thequietresorts.com/events/details/may-2026-business-after-hours-at-bethany-boathouse-44044
END:VEVENT

END:VCALENDAR
