BEGIN:VCALENDAR
VERSION:2.0
PRODID:-//ChamberMaster//Event Calendar 2.0//EN
METHOD:PUBLISH
X-PUBLISHED-TTL:P3D
REFRESH-INTERVAL:P3D
CALSCALE:GREGORIAN
BEGIN:VEVENT
DTSTART:20260506T190000Z
DTEND:20260506T203000Z
X-MICROSOFT-CDO-ALLDAYEVENT:FALSE
SUMMARY:Made in the Shade Ribbon Cutting: Millville Location Grand Opening
DESCRIPTION:Join the BFACC and Made in the Shade team at Made in the Shade's new Millville location for a ribbon cutting on Wednesday\, May 6th!  The event is celebrating the grand opening of the Millville office and will take place from 3:00 - 4:30 PM\, with the ribbon to be cut at 4:00 PM. \n\n\n\nMade in the Shade proudly serves Sussex and Worcester Counties and surrounding areas!  With blinds\, shades\, shutters\, drapery\, decorative grilles\, motorization\, exterior shades\, and retractable awnings\, they have a solution for any customer.  Learn more about Made in the Shade here!
X-ALT-DESC;FMTTYPE=text/html:Join the BFACC and Made in the Shade team at Made in the Shade&#39\;s new Millville location for a ribbon cutting on Wednesday\, May 6th!&nbsp\; The event is celebrating the grand opening of the Millville office and will take place from 3:00 - 4:30 PM\, with the ribbon to be cut at 4:00 PM.&nbsp\;<br />\n<br />\nMade in the Shade proudly serves Sussex and Worcester Counties and surrounding areas!&nbsp\; With blinds\, shades\, shutters\, drapery\, decorative grilles\, motorization\, exterior shades\, and retractable awnings\, they have a solution for any customer.&nbsp\; <a href="https://mitseasternshore.com/">Learn more about Made in the Shade here!</a>
LOCATION:Made in the Shade Eastern Shore - Millville Office 35380 Atlantic Ave. Millville\, DE
UID:e.2126.44041
SEQUENCE:3
DTSTAMP:20260421T141715Z
URL:https://business.thequietresorts.com/events/details/made-in-the-shade-ribbon-cutting-millville-location-grand-opening-44041
END:VEVENT

END:VCALENDAR
