BEGIN:VCALENDAR
VERSION:2.0
PRODID:-//ChamberMaster//Event Calendar 2.0//EN
METHOD:PUBLISH
X-PUBLISHED-TTL:P3D
REFRESH-INTERVAL:P3D
CALSCALE:GREGORIAN
BEGIN:VEVENT
DTSTART:20241212T163000Z
DTEND:20241212T183000Z
X-MICROSOFT-CDO-ALLDAYEVENT:FALSE
SUMMARY:Holiday Luncheon & Annual Meeting at Art League of OC
DESCRIPTION:Members and future members are cordially invited to the Art League of Ocean City's Holiday Luncheon & Annual Meeting at Saltwater 75.\n\n\n\nThey are celebrating a successful 61 years\, recognizing their amazing volunteers\, members and supporters.  \n\n\n\nTickets are $45\, and include your meal\, a beverage and all gratuity.\n\n\n\nRSVP by Dec. 5th with payment at 410-524-9433.
X-ALT-DESC;FMTTYPE=text/html:Members and future members are cordially invited to the Art League of Ocean City&#39\;s Holiday Luncheon &amp\; Annual Meeting at Saltwater 75.<br />\n<br />\nThey are celebrating a successful 61 years\, recognizing their amazing volunteers\, members and supporters.&nbsp\;&nbsp\;<br />\n<br />\nTickets are $45\, and include your meal\, a beverage and all gratuity.<br />\n<br />\nRSVP by Dec. 5th with payment at 410-524-9433.&nbsp\;
LOCATION:
UID:e.2126.31720
SEQUENCE:3
DTSTAMP:20260421T090825Z
URL:https://business.thequietresorts.com/events/details/holiday-luncheon-annual-meeting-at-art-league-of-oc-31720
END:VEVENT

END:VCALENDAR
