BEGIN:VCALENDAR
VERSION:2.0
PRODID:-//ChamberMaster//Event Calendar 2.0//EN
METHOD:PUBLISH
X-PUBLISHED-TTL:P3D
REFRESH-INTERVAL:P3D
CALSCALE:GREGORIAN
BEGIN:VEVENT
DTSTART:20241207T160000Z
DTEND:20241207T210000Z
X-MICROSOFT-CDO-ALLDAYEVENT:FALSE
SUMMARY:Holiday Artisan Fair Continues!
DESCRIPTION:Holiday Artisan Fair: Friday 5-7PM\, Saturday 11-4PM\n\nStart your holiday shopping here with one-of-a-kind\, handmade gifts you won't find anywhere else. Shop for jewelry\, ceramics\, fiber art\, and more from local artists. Stop by Saturday for bake sale\, book signings\, and more!
X-ALT-DESC;FMTTYPE=text/html:<div>\n<p><strong>Holiday Artisan&nbsp\;Fair</strong>: Friday 5-7PM\,&nbsp\;Saturday 11-4PM</p>\n\n<p>Start your holiday shopping here with one-of-a-kind\, handmade gifts you won&rsquo\;t find anywhere else. Shop for jewelry\, ceramics\, fiber art\, and more from local artists. Stop by Saturday for bake sale\, book signings\, and more!</p>\n</div>\n\n<div>\n<ul style="list-style-type:none">\n</ul>\n</div>\n
LOCATION:
UID:e.2126.31835
SEQUENCE:3
DTSTAMP:20260421T134409Z
URL:https://business.thequietresorts.com/events/details/holiday-artisan-fair-continues-31835
END:VEVENT

END:VCALENDAR
