BEGIN:VCALENDAR
VERSION:2.0
PRODID:-//ChamberMaster//Event Calendar 2.0//EN
METHOD:PUBLISH
X-PUBLISHED-TTL:P3D
REFRESH-INTERVAL:P3D
CALSCALE:GREGORIAN
BEGIN:VEVENT
DTSTART:20240909T170000Z
DTEND:20240909T190000Z
X-MICROSOFT-CDO-ALLDAYEVENT:FALSE
SUMMARY:God & Country Documentary Film Viewing and Discussion at St. Martha's
DESCRIPTION:St. Martha's Episcopal Church invites you to a free and open viewing and discussion of the documentary God & Country. No tickets or reservations are required everyone is welcome. This event is designed to foster an inclusive and respectful conversation\, where all perspectives are valued. Join them for a thoughtful exploration of this important topic.
X-ALT-DESC;FMTTYPE=text/html:St. Martha&#39\;s Episcopal Church invites you to a free and open viewing and discussion of the documentary <em>God &amp\; Country.</em> No tickets or reservations are required&mdash\;everyone is welcome. This event is designed to foster an inclusive and respectful conversation\, where all perspectives are valued. Join them for a thoughtful exploration of this important topic.
LOCATION:St. Martha's Episcopal Church 117 Maplewood Street Bethany Beach\, DE 19930
UID:e.2126.30890
SEQUENCE:3
DTSTAMP:20260420T144539Z
URL:https://business.thequietresorts.com/events/details/god-country-documentary-film-viewing-and-discussion-at-st-martha-s-30890
END:VEVENT

END:VCALENDAR
