BEGIN:VCALENDAR
VERSION:2.0
PRODID:-//ChamberMaster//Event Calendar 2.0//EN
METHOD:PUBLISH
X-PUBLISHED-TTL:P3D
REFRESH-INTERVAL:P3D
CALSCALE:GREGORIAN
BEGIN:VEVENT
DTSTART:20241211T170000Z
DTEND:20241211T183000Z
X-MICROSOFT-CDO-ALLDAYEVENT:FALSE
SUMMARY:Free SCORE Webinar: Best Practices for Nonprofit Boards
DESCRIPTION:Join SCORE for a free webinar covering best practices for a Non Profit Board.\n\n\n\nTopics to be covered:\n\n \n\n\n	Key Purpose and Role of the Board - Learn about the value of strategic direction\, oversight and accountability achieving the mission\, ensuring legal integrity and financial health.\n	Desired Composition of the Board - An effective Board is diverse and inclusive\, representing various skills\, experiences\, and perspectives including expertise in finance\, law\, marketing\, fundraising\, and program development.\n	Recruitment of Board Members - Recruiting involves identifying passionate individuals with the necessary skills\, ongoing and proactive search\, and clear criteria and expectations.\n	Board Member Orientation - A comprehensive orientation program integrates new members by providing an overview of the organization's history\, mission\, programs\, and goals. Key documents like bylaws and financial reports should be shared\, and mentoring by experienced members can facilitate a smooth transition.\n	Board Evaluation - Regular evaluation of the board's performance is crucial. Learn what assessments are conducted and the tools that can be used in the process.\n	Role in Development/Fundraising - Board members play a pivotal role in fundraising\, participating actively in campaigns\, leveraging their networks\, and providing strategic guidance.\n\n\n \n\nBy following these best practices\, Non-profit Boards can effectively guide their organizations towards sustainability and long-term success.
X-ALT-DESC;FMTTYPE=text/html:<p style="box-sizing: border-box\; border-width: 0px\; border-style: solid\; border-color: currentcolor\; margin: 0px\; font-family: var(--ff-body)\; font-size: var(--fs-xl)\; line-height: var(--lh-xl)\; color: var(--brand-secondaryGraphite)\; margin-block-start: var(--wysiwyg-gap-size)\; margin-block-end: var(--wysiwyg-gap-size)\;">Join SCORE for a free webinar covering best practices for a Non Profit Board.<br />\n<br />\n<u style="box-sizing: border-box\; border-width: 0px\; border-style: solid\; border-color: currentcolor\;">Topics to be covered:</u></p>\n\n<p style="box-sizing: border-box\; border-width: 0px\; border-style: solid\; border-color: currentcolor\; margin: 0px\; font-family: var(--ff-body)\; font-size: var(--fs-xl)\; line-height: var(--lh-xl)\; color: var(--brand-secondaryGraphite)\; margin-block-start: var(--wysiwyg-gap-size)\; margin-block-end: var(--wysiwyg-gap-size)\;">&nbsp\;</p>\n\n<ul style="box-sizing: border-box\; border-width: 0px\; border-style: solid\; border-color: currentcolor\; list-style-position: initial\; list-style-image: initial\; margin: 0px\; margin-block-start: var(--wysiwyg-gap-size)\; margin-block-end: var(--wysiwyg-gap-size)\; color: rgb(0\, 0\, 0)\; font-family: ui-sans-serif\, system-ui\, sans-serif\, &quot\;Apple Color Emoji&quot\;\, &quot\;Segoe UI Emoji&quot\;\, &quot\;Segoe UI Symbol&quot\;\, &quot\;Noto Color Emoji&quot\;\; font-size: medium\;">\n	<li style="box-sizing: border-box\; border-width: 0px\; border-style: solid\; border-color: currentcolor\; padding-left: 12px\; font-family: var(--ff-body)\; line-height: var(--lh-lg)\; color: var(--brand-secondaryGraphite)\; font-size: var(--fs-lg)\; margin-block-end: 1rem\;"><span style="font-size:14px\;"><span style="box-sizing: border-box\; border-width: 0px\; border-style: solid\; border-color: currentcolor\; font-weight: bolder\; margin: 0px\; line-height: var(--lh-xl)\;">Key Purpose and Role of the Board&nbsp\;</span><span style="box-sizing: border-box\; border-width: 0px\; border-style: solid\; border-color: currentcolor\;">- Learn about the value of strategic direction\, oversight and accountability achieving the mission\, ensuring legal integrity and financial health.</span></span></li>\n	<li style="box-sizing: border-box\; border-width: 0px\; border-style: solid\; border-color: currentcolor\; padding-left: 12px\; font-family: var(--ff-body)\; line-height: var(--lh-lg)\; color: var(--brand-secondaryGraphite)\; font-size: var(--fs-lg)\; margin-block-end: 1rem\;"><span style="font-size:14px\;"><span style="box-sizing: border-box\; border-width: 0px\; border-style: solid\; border-color: currentcolor\; font-weight: bolder\; margin: 0px\; line-height: var(--lh-xl)\;">Desired Composition of the Board&nbsp\;</span><span style="box-sizing: border-box\; border-width: 0px\; border-style: solid\; border-color: currentcolor\;">- An effective Board is diverse and inclusive\, representing various skills\, experiences\, and perspectives including expertise in finance\, law\, marketing\, fundraising\, and program development.</span></span></li>\n	<li style="box-sizing: border-box\; border-width: 0px\; border-style: solid\; border-color: currentcolor\; padding-left: 12px\; font-family: var(--ff-body)\; line-height: var(--lh-lg)\; color: var(--brand-secondaryGraphite)\; font-size: var(--fs-lg)\; margin-block-end: 1rem\;"><span style="font-size:14px\;"><span style="box-sizing: border-box\; border-width: 0px\; border-style: solid\; border-color: currentcolor\; font-weight: bolder\; margin: 0px\; line-height: var(--lh-xl)\;">Recruitment of Board Members&nbsp\;</span><span style="box-sizing: border-box\; border-width: 0px\; border-style: solid\; border-color: currentcolor\;">- Recruiting involves identifying passionate individuals with the necessary skills\, ongoing and proactive search\, and clear criteria and expectations.</span></span></li>\n	<li style="box-sizing: border-box\; border-width: 0px\; border-style: solid\; border-color: currentcolor\; padding-left: 12px\; font-family: var(--ff-body)\; line-height: var(--lh-lg)\; color: var(--brand-secondaryGraphite)\; font-size: var(--fs-lg)\; margin-block-end: 1rem\;"><span style="font-size:14px\;"><span style="box-sizing: border-box\; border-width: 0px\; border-style: solid\; border-color: currentcolor\; font-weight: bolder\; margin: 0px\; line-height: var(--lh-xl)\;">Board Member Orientation&nbsp\;</span><span style="box-sizing: border-box\; border-width: 0px\; border-style: solid\; border-color: currentcolor\;">- A comprehensive orientation program integrates new members by providing an overview of the organization&#39\;s history\, mission\, programs\, and goals. Key documents like bylaws and financial reports should be shared\, and mentoring by experienced members can facilitate a smooth transition.</span></span></li>\n	<li style="box-sizing: border-box\; border-width: 0px\; border-style: solid\; border-color: currentcolor\; padding-left: 12px\; font-family: var(--ff-body)\; line-height: var(--lh-lg)\; color: var(--brand-secondaryGraphite)\; font-size: var(--fs-lg)\; margin-block-end: 1rem\;"><span style="font-size:14px\;"><span style="box-sizing: border-box\; border-width: 0px\; border-style: solid\; border-color: currentcolor\; font-weight: bolder\; margin: 0px\; line-height: var(--lh-xl)\;">Board Evaluation&nbsp\;</span><span style="box-sizing: border-box\; border-width: 0px\; border-style: solid\; border-color: currentcolor\;">- Regular evaluation of the board&rsquo\;s performance is crucial. Learn what assessments are conducted and the tools that can be used in the process.</span></span></li>\n	<li style="box-sizing: border-box\; border-width: 0px\; border-style: solid\; border-color: currentcolor\; padding-left: 12px\; font-family: var(--ff-body)\; line-height: var(--lh-lg)\; color: var(--brand-secondaryGraphite)\; font-size: var(--fs-lg)\;"><span style="font-size:14px\;"><span style="box-sizing: border-box\; border-width: 0px\; border-style: solid\; border-color: currentcolor\; font-weight: bolder\; margin: 0px\; line-height: var(--lh-xl)\;">Role in Development/Fundraising&nbsp\;</span><span style="box-sizing: border-box\; border-width: 0px\; border-style: solid\; border-color: currentcolor\;">- Board members play a pivotal role in fundraising\, participating actively in campaigns\, leveraging their networks\, and providing strategic guidance.</span></span></li>\n</ul>\n\n<p style="box-sizing: border-box\; border-width: 0px\; border-style: solid\; border-color: currentcolor\; margin: 0px\; font-family: var(--ff-body)\; font-size: var(--fs-xl)\; line-height: var(--lh-xl)\; color: var(--brand-secondaryGraphite)\; margin-block-start: var(--wysiwyg-gap-size)\; margin-block-end: var(--wysiwyg-gap-size)\;">&nbsp\;</p>\n\n<p style="box-sizing: border-box\; border-width: 0px\; border-style: solid\; border-color: currentcolor\; margin: 0px\; font-family: var(--ff-body)\; font-size: var(--fs-xl)\; line-height: var(--lh-xl)\; color: var(--brand-secondaryGraphite)\; margin-block-start: var(--wysiwyg-gap-size)\; margin-block-end: var(--wysiwyg-gap-size)\;"><span style="box-sizing: border-box\; border-width: 0px\; border-style: solid\; border-color: currentcolor\;">By following these best practices\, Non-profit Boards can effectively guide their organizations towards sustainability and long-term success.</span></p>\n
LOCATION:Online
UID:e.2126.31852
SEQUENCE:3
DTSTAMP:20260421T134449Z
URL:https://business.thequietresorts.com/events/details/free-score-webinar-best-practices-for-nonprofit-boards-31852
END:VEVENT

END:VCALENDAR
