BEGIN:VCALENDAR
VERSION:2.0
PRODID:-//ChamberMaster//Event Calendar 2.0//EN
METHOD:PUBLISH
X-PUBLISHED-TTL:P3D
REFRESH-INTERVAL:P3D
CALSCALE:GREGORIAN
BEGIN:VEVENT
DTSTART;VALUE=DATE:20251219
DTEND;VALUE=DATE:20251220
TRANSP:TRANSPARENT
X-MICROSOFT-CDO-ALLDAYEVENT:TRUE
SUMMARY:Festive Fridays in Fenwick Island
DESCRIPTION:Are you feeling festive?  Visit the businesses of Fenwick Island for Festive Fridays this December!  On December 5th\, 12th\, and 19th\, shoppers are encouraged to shop\, dine\, stay\, and play at participating businesses in Fenwick for fun holiday specials\, deals\, and festivities. \n\n\n\nCheck back here as participating businesses confirm their Festive Friday fun and are added to the list!  \n\n\n\nFriday\, December 5th\n\n\n	Dirty Harry's Restaurant\, 100 Coastal Hwy.\, #1\n\n	\n		10% off breakfast and lunch\n	\n	\n	Fenwick Island Surf Shop\, 205 Coastal Hwy.\n	\n		20% off all surf shop short sleeve and long sleeve shirts sizes 6 month to adult 3XL\n		Holiday baskets available for purchase\n	\n	\n	Fenwick Shores\, 1501 Coastal Hwy.\n	\n		Discounts on bookings\n		Seasonal cocktails and mocktails at Mooncussers\n	\n	\n	FINS Ale House & Raw Bar\, 37234 Lighthouse Rd.\n	\n		Lunch combo $15\n		Dinner special: Crag legs 1 lb. plus 2 side $22\, 2lbs. plus 2 sides $39\n		Trivia Night - sign up begins 5:30pm\n	\n	\n	Harpoon Hanna's\, Rt. 54 & The Bay\n	\n		Happy Hour 3-6pm\n		Live music at 4pm\n		Live bands in the evening\n	\n	\n	Jimmy's Kitchen\, 1300 Coastal Hwy.\, 6 Ocean Bay Plz.\n	\n		Free cup of coffee with purchase of breakfast when you mention Festive Friday!\n	\n	\n	Papa Grande's\, 38929 Madison Ave.\n	\n		Fajita Friday\n	\n	\n	St. Matthews By-the-Sea United Methodist Church\, 1000 Coastal Hwy.\n	\n		Jammin' By the Sea from 4-6pm - come sing or play an instrument to jam with the community\n	\n	\n	Surf Bagel\, 1007 Coastal Hwy.\n	\n		All items available for purchase\n		\n			Holiday coffee bundles (4 oz. coffee\, 15 oz mug\, 2 stickers)\n			Surf Bagel ornament\n			Snickerdude coffee\n			Holiday themed gift cards\n			Seasonal apparel\n		\n		\n	\n	\n	Surf's Edge Gourmet Deli & Pizza\, 100 Coastal Hwy.\, Unit 4\n	\n		Buy $100 gift card receive an additional $25\n		25% off all jams & crackers\n		25% off T-shirts & hats\n		Lunch Specials Available\n	\n	\n	The Book Attic\, 38017 Fenwick Shoals Blvd.\n	\n		 Customers who make an in-store purchase $50+ will be entered into a raffle to win a Book Attic gift card\n	\n	\n	The Pantry at The Station\, 1406 Coastal Hwy.\n	\n		 Grab-n-go salads & bowls $9\n		Boxed lunches 8am-2pm $13\n	\n	\n	The Station\, 1406 Coastal Hwy.\n	\n		 Daily Happy Hour 3-6pm - bar only\n	\n	\n	Tidepool Toys\, 100 Coastal Hwy.\, #6\n	\n		 15% off all games\n		punch & cookies to enjoy while you shop\n	\n	\n	Town of Fenwick Island\, 800 Coastal Hwy.\n	\n		 Tree Lighting at 5:30pm\n		Evening filled with hot chocolate\, cookies\, ornament decorating\, and caroling\n	\n	\n\nFriday\, December 12th\n\n\n	Dirty Harry's Restaurant\, 100 Coastal Hwy.\, #1\n\n	\n		10% off breakfast and lunch\n	\n	\n	Fenwick Island Surf Shop\, 205 Coastal Hwy.\n	\n		20% off all surf shop sweatshirts 6 month to adult 3XL\n		Holiday baskets available for purchase\n	\n	\n	FINS Ale House & Raw Bar\, 37234 Lighthouse Rd.\n	\n		Lunch combo $15\n		Dinner special: Crag legs 1 lb. plus 2 side $22\, 2lbs. plus 2 sides $39\n		Trivia Night - sign up begins 5:30pm\n	\n	\n	Harpoon Hanna's\, Rt. 54 & The Bay\n	\n		Happy Hour 3-6pm\n		Live music at 4pm\n		Live bands in the evening\n	\n	\n	Jimmy's Kitchen\, 1300 Coastal Hwy.\, 6 Ocean Bay Plz.\n	\n		Free cup of coffee with purchase of breakfast when you mention Festive Friday!\n	\n	\n	Papa Grande's\, 38929 Madison Ave.\n	\n		Fajita Friday\n	\n	\n	Pottery Place\, 1500 Coastal Hwy.\, Unit 8\n	\n		Celebrate the holiday season with a Sip-n-Shop\n	\n	\n	Surf Bagel\, 1007 Coastal Hwy.\n	\n		All items available for purchase\n		\n			Holiday coffee bundles (4 oz. coffee\, 15 oz mug\, 2 stickers)\n			Surf Bagel ornament\n			Snickerdude coffee\n			Holiday themed gift cards\n			Seasonal apparel\n		\n		\n	\n	\n	Surf's Edge Gourmet Deli & Pizza\, 100 Coastal Hwy.\, Unit 4\n	\n		Buy $100 gift card receive an additional $25\n		25% off all jams & crackers\n		25% off T-shirts & hats\n		Lunch Specials Available\n	\n	\n	The Book Attic\, 38017 Fenwick Shoals Blvd.\n	\n		 Customers who make an in-store purchase $50+ will be entered into a raffle to win a Book Attic gift card\n	\n	\n	The Pantry at The Station\, 1406 Coastal Hwy.\n	\n		 Grab-n-go salads & bowls $9\n		Boxed lunches 8am-2pm $13\n	\n	\n	The Station\, 1406 Coastal Hwy.\n	\n		 Daily Happy Hour 3-6pm - bar only\n	\n	\n	Tidepool Toys\, 100 Coastal Hwy.\, #6\n	\n		 15% off puzzles and science kits\n		punch & cookies to enjoy while you shop\n	\n	\n\nFriday\, December 19th\n\n\n	Fenwick Island Surf Shop\, 205 Coastal Hwy.\n\n	\n		Holiday Sip & Shop 4-6pm with exclusive holiday deals\n		Holiday baskets available for purchase\n	\n	\n	FINS Ale House & Raw Bar\, 37234 Lighthouse Rd.\n	\n		Lunch combo $15\n		Dinner special: Crag legs 1 lb. plus 2 side $22\, 2lbs. plus 2 sides $39\n		Trivia Night - sign up begins 5:30pm\n	\n	\n	Harpoon Hanna's\, Rt. 54 & The Bay\n	\n		Happy Hour 3-6pm\n		Live music at 4pm\n		Live bands in the evening\n	\n	\n	Jimmy's Kitchen\, 1300 Coastal Hwy.\, 6 Ocean Bay Plz.\n	\n		Free cup of coffee with purchase of breakfast when you mention Festive Friday!\n	\n	\n	Papa Grande's\, 38929 Madison Ave.\n	\n		Fajita Friday\n	\n	\n	Surf Bagel\, 1007 Coastal Hwy.\n	\n		All items available for purchase\n		\n			Holiday coffee bundles (4 oz. coffee\, 15 oz mug\, 2 stickers)\n			Surf Bagel ornament\n			Snickerdude coffee\n			Holiday themed gift cards\n			Seasonal apparel\n		\n		\n	\n	\n	Surf's Edge Gourmet Deli & Pizza\, 100 Coastal Hwy.\, Unit 4\n	\n		Buy $100 gift card receive an additional $25\n		25% off all jams & crackers\n		25% off T-shirts & hats\n		Lunch Specials Available\n	\n	\n	The Book Attic\, 38017 Fenwick Shoals Blvd.\n	\n		 Customers who make an in-store purchase $50+ will be entered into a raffle to win a Book Attic gift card\n	\n	\n	The Pantry at The Station\, 1406 Coastal Hwy.\n	\n		 Grab-n-go salads & bowls $9\n		Boxed lunches 8am-2pm $13\n	\n	\n	The Station\, 1406 Coastal Hwy.\n	\n		 Daily Happy Hour 3-6pm - bar only\n	\n	\n	Tidepool Toys\, 100 Coastal Hwy.\, #6\n	\n		 15% off arts & crafts\n		punch & cookies to enjoy while you shop
X-ALT-DESC;FMTTYPE=text/html:<br />\n<span style="font-size:16px\;">Are you feeling festive?&nbsp\; Visit the businesses of Fenwick Island for Festive Fridays this December!&nbsp\; <strong>On December 5th\, 12th\, and 19th\, shoppers are encouraged to shop\, dine\, stay\, and play at participating businesses in Fenwick for fun holiday specials\, deals\, and festivities.&nbsp\;</strong><br />\n<br />\nCheck back here as participating businesses confirm their Festive Friday fun and are added to the list!&nbsp\;&nbsp\;<br />\n<br />\n<u><strong>Friday\, December 5th</strong></u></span>\n\n<ul>\n	<li><strong><a href="https://www.beach-net.com/dirtyharrys/">Dirty Harry&#39\;s Restaurant</a>\, 100 Coastal Hwy.\, #1</strong>\n\n	<ul>\n		<li>10% off breakfast and lunch</li>\n	</ul>\n	</li>\n	<li><strong><a href="https://www.fenwickislandsurfshop.com/">Fenwick Island Surf Shop</a>\, 205&nbsp\;Coastal Hwy.</strong>\n	<ul>\n		<li>20% off all surf shop short sleeve and long sleeve shirts sizes 6 month to adult 3XL</li>\n		<li>Holiday baskets available for purchase</li>\n	</ul>\n	</li>\n	<li><strong><a href="http://www.fenwickshores.com">Fenwick Shores</a>\, 1501&nbsp\;Coastal Hwy.</strong>\n	<ul>\n		<li>Discounts on<a href="https://www.hilton.com/en/book/reservation/deeplink/?ctyhocn=SBYFSUP&amp\;corporateCode=1361759&amp\;flexibleDates=true"> bookings</a></li>\n		<li>Seasonal cocktails and mocktails at Mooncussers</li>\n	</ul>\n	</li>\n	<li><strong><a href="http://finsrawbar.com">FINS Ale House &amp\; Raw Bar</a>\, 37234 Lighthouse Rd.</strong>\n	<ul>\n		<li>Lunch combo $15</li>\n		<li>Dinner special: Crag legs 1 lb. plus 2 side $22\, 2lbs. plus 2 sides $39</li>\n		<li>Trivia Night - sign up begins 5:30pm</li>\n	</ul>\n	</li>\n	<li><strong><a href="http://www.harpoonhannasrestaurant.com">Harpoon Hanna&#39\;s</a>\, Rt. 54 &amp\; The Bay</strong>\n	<ul>\n		<li>Happy Hour 3-6pm</li>\n		<li>Live music at 4pm</li>\n		<li>Live bands in the evening</li>\n	</ul>\n	</li>\n	<li><a href="https://www.restaurantji.com/de/fenwick-island/jimmys-kitchen-/" style="font-weight: bold\;">Jimmy&#39\;s Kitchen</a><b>\, 1300 Coastal Hwy.\, 6 Ocean Bay Plz.</b>\n	<ul>\n		<li>Free cup&nbsp\;of coffee with purchase of breakfast when you mention Festive Friday!</li>\n	</ul>\n	</li>\n	<li><a href="http://www.papagrandes.com" style="font-weight: bold\;">Papa Grande&#39\;s</a><b>\, 38929 Madison Ave.</b>\n	<ul>\n		<li>Fajita&nbsp\;Friday</li>\n	</ul>\n	</li>\n	<li><strong><a href="https://www.smbts.org/">St. Matthews By-the-Sea United Methodist Church</a>\, 1000 Coastal Hwy.</strong>\n	<ul>\n		<li>Jammin&#39\; By the Sea from 4-6pm - come sing or play an instrument to jam with the community</li>\n	</ul>\n	</li>\n	<li><strong><a href="https://surfbagel.com/">Surf Bagel</a>\, 1007 Coastal Hwy.</strong>\n	<ul>\n		<li>All items available for purchase\n		<ul>\n			<li>Holiday coffee bundles (4 oz. coffee\, 15 oz mug\, 2 stickers)</li>\n			<li>Surf&nbsp\;Bagel ornament</li>\n			<li>Snickerdude coffee</li>\n			<li>Holiday themed gift cards</li>\n			<li>Seasonal apparel</li>\n		</ul>\n		</li>\n	</ul>\n	</li>\n	<li><strong><a href="https://surfsedgefenwick.com/">Surf&#39\;s Edge Gourmet Deli &amp\; Pizza</a>\, 100 Coastal Hwy.\, Unit 4</strong>\n	<ul>\n		<li>Buy $100 gift card receive an additional $25</li>\n		<li>25% off all jams &amp\; crackers</li>\n		<li>25% off T-shirts &amp\; hats</li>\n		<li>Lunch Specials Available</li>\n	</ul>\n	</li>\n	<li><strong><a href="https://www.thebookattic.co/">The Book Attic</a>\, 38017 Fenwick Shoals Blvd.</strong>\n	<ul>\n		<li>&#8203\;Customers who make an in-store purchase $50+ will be entered into a raffle to win a Book Attic gift card</li>\n	</ul>\n	</li>\n	<li><strong><a href="https://www.thestationfi.com/the-pantry/">The Pantry at The Station</a>\, 1406 Coastal Hwy.</strong>\n	<ul>\n		<li>&#8203\;Grab-n-go salads &amp\; bowls $9</li>\n		<li>Boxed lunches 8am-2pm $13</li>\n	</ul>\n	</li>\n	<li><strong><a href="http://thestationfi.com">The Station</a>\,&nbsp\;1406 Coastal Hwy.</strong>\n	<ul>\n		<li>&#8203\;Daily Happy Hour 3-6pm - bar only</li>\n	</ul>\n	</li>\n	<li><strong><a href="http://www.tidepooltoys.com">Tidepool Toys</a>\,&nbsp\;100 Coastal Hwy.\, #6</strong>\n	<ul>\n		<li>&#8203\;15% off all games</li>\n		<li>punch &amp\; cookies to enjoy while you shop</li>\n	</ul>\n	</li>\n	<li><strong><a href="http://www.fenwickisland.delaware.gov">Town of Fenwick Island</a>\, 800 Coastal Hwy.</strong>\n	<ul>\n		<li>&#8203\;Tree Lighting at 5:30pm</li>\n		<li>Evening filled with hot chocolate\, cookies\, ornament decorating\, and caroling</li>\n	</ul>\n	</li>\n</ul>\n<u style="font-size: 16px\;"><strong>Friday\, December 12th</strong></u>\n\n<ul>\n	<li><strong><a href="https://www.beach-net.com/dirtyharrys/">Dirty Harry&#39\;s Restaurant</a>\, 100 Coastal Hwy.\, #1</strong>\n\n	<ul>\n		<li>10% off breakfast and lunch</li>\n	</ul>\n	</li>\n	<li><strong><a href="https://www.fenwickislandsurfshop.com/">Fenwick Island Surf Shop</a>\,&nbsp\;205&nbsp\;Coastal Hwy.</strong>\n	<ul>\n		<li>20% off all surf shop sweatshirts 6 month to adult 3XL</li>\n		<li>Holiday baskets available for purchase</li>\n	</ul>\n	</li>\n	<li><strong><a href="http://finsrawbar.com">FINS Ale House &amp\; Raw Bar</a>\, 37234 Lighthouse Rd.</strong>\n	<ul>\n		<li>Lunch combo $15</li>\n		<li>Dinner special: Crag legs 1 lb. plus 2 side $22\, 2lbs. plus 2 sides $39</li>\n		<li>Trivia Night - sign up begins 5:30pm</li>\n	</ul>\n	</li>\n	<li><strong><a href="http://www.harpoonhannasrestaurant.com">Harpoon Hanna&#39\;s</a>\, Rt. 54 &amp\; The Bay</strong>\n	<ul>\n		<li>Happy Hour 3-6pm</li>\n		<li>Live music at 4pm</li>\n		<li>Live bands in the evening</li>\n	</ul>\n	</li>\n	<li><strong><a href="https://www.restaurantji.com/de/fenwick-island/jimmys-kitchen-/">Jimmy&#39\;s Kitchen</a>\, 1300 Coastal Hwy.\, 6 Ocean Bay Plz.</strong>\n	<ul>\n		<li>Free cup&nbsp\;of coffee with purchase of breakfast when you mention Festive Friday!</li>\n	</ul>\n	</li>\n	<li><a href="http://www.papagrandes.com" style="font-weight: bold\;">Papa Grande&#39\;s</a><b>\,&nbsp\;38929 Madison Ave.</b>\n	<ul>\n		<li>Fajita&nbsp\;Friday</li>\n	</ul>\n	</li>\n	<li><a href="http://www.potteryplacede.com" style="font-weight: bold\;">Pottery Place</a><b>\, 1500 Coastal Hwy.\, Unit 8</b>\n	<ul>\n		<li>Celebrate the holiday season with a Sip-n-Shop</li>\n	</ul>\n	</li>\n	<li><strong><a href="https://surfbagel.com/">Surf Bagel</a>\, 1007 Coastal Hwy.</strong>\n	<ul>\n		<li>All items available for purchase\n		<ul>\n			<li>Holiday coffee bundles (4 oz. coffee\, 15 oz mug\, 2 stickers)</li>\n			<li>Surf&nbsp\;Bagel ornament</li>\n			<li>Snickerdude coffee</li>\n			<li>Holiday themed&nbsp\;gift cards</li>\n			<li>Seasonal apparel</li>\n		</ul>\n		</li>\n	</ul>\n	</li>\n	<li><strong><a href="https://surfsedgefenwick.com/">Surf&#39\;s Edge Gourmet Deli &amp\; Pizza</a>\, 100 Coastal Hwy.\, Unit 4</strong>\n	<ul>\n		<li>Buy $100 gift card receive an additional $25</li>\n		<li>25% off all jams &amp\; crackers</li>\n		<li>25% off T-shirts &amp\; hats</li>\n		<li>Lunch Specials Available</li>\n	</ul>\n	</li>\n	<li><strong><a href="https://www.thebookattic.co/">The Book Attic</a>\, 38017 Fenwick Shoals Blvd.</strong>\n	<ul>\n		<li>&#8203\;Customers who make an in-store purchase $50+ will be entered into a raffle to win a Book Attic gift card</li>\n	</ul>\n	</li>\n	<li><strong><a href="https://www.thestationfi.com/the-pantry/">The Pantry at The Station</a>\,&nbsp\;1406 Coastal Hwy.</strong>\n	<ul>\n		<li>&#8203\;Grab-n-go salads &amp\; bowls $9</li>\n		<li>Boxed lunches 8am-2pm $13</li>\n	</ul>\n	</li>\n	<li><strong><a href="http://thestationfi.com">The Station</a>\,&nbsp\;1406 Coastal Hwy.</strong>\n	<ul>\n		<li>&#8203\;Daily Happy Hour 3-6pm - bar only</li>\n	</ul>\n	</li>\n	<li><strong><a href="http://www.tidepooltoys.com">Tidepool Toys</a>\,&nbsp\;100 Coastal Hwy.\, #6</strong>\n	<ul>\n		<li>&#8203\;15% off puzzles and science kits</li>\n		<li>punch &amp\; cookies to enjoy while you shop</li>\n	</ul>\n	</li>\n</ul>\n<strong><u style="font-size: 16px\;">Friday\, December 19th</u></strong>\n\n<ul>\n	<li><strong><a href="https://www.fenwickislandsurfshop.com/">Fenwick Island Surf Shop</a>\,&nbsp\;205&nbsp\;Coastal Hwy.</strong>\n\n	<ul>\n		<li>Holiday Sip &amp\; Shop 4-6pm with exclusive holiday deals</li>\n		<li>Holiday baskets available for purchase</li>\n	</ul>\n	</li>\n	<li><strong><a href="http://finsrawbar.com">FINS Ale House &amp\; Raw Bar</a>\, 37234 Lighthouse Rd.</strong>\n	<ul>\n		<li>Lunch combo $15</li>\n		<li>Dinner special: Crag legs 1 lb. plus 2 side $22\, 2lbs. plus 2 sides $39</li>\n		<li>Trivia Night - sign up begins 5:30pm</li>\n	</ul>\n	</li>\n	<li><strong><a href="http://www.harpoonhannasrestaurant.com">Harpoon Hanna&#39\;s</a>\, Rt. 54 &amp\; The Bay</strong>\n	<ul>\n		<li>Happy Hour 3-6pm</li>\n		<li>Live music at 4pm</li>\n		<li>Live bands in the evening</li>\n	</ul>\n	</li>\n	<li><strong><a href="https://www.restaurantji.com/de/fenwick-island/jimmys-kitchen-/">Jimmy&#39\;s Kitchen</a>\, 1300 Coastal Hwy.\, 6 Ocean Bay Plz.</strong>\n	<ul>\n		<li>Free cup&nbsp\;of coffee with purchase of breakfast when you mention Festive Friday!</li>\n	</ul>\n	</li>\n	<li><a href="http://www.papagrandes.com" style="font-weight: bold\;">Papa Grande&#39\;s</a><b>\,&nbsp\;38929 Madison Ave.</b>\n	<ul>\n		<li>Fajita&nbsp\;Friday</li>\n	</ul>\n	</li>\n	<li><strong><a href="https://surfbagel.com/">Surf Bagel</a>\, 1007 Coastal Hwy.</strong>\n	<ul>\n		<li>All items available for purchase\n		<ul>\n			<li>Holiday coffee bundles (4 oz. coffee\, 15 oz mug\, 2 stickers)</li>\n			<li>Surf&nbsp\;Bagel ornament</li>\n			<li>Snickerdude coffee</li>\n			<li>Holiday themed&nbsp\;gift cards</li>\n			<li>Seasonal apparel</li>\n		</ul>\n		</li>\n	</ul>\n	</li>\n	<li><strong><a href="https://surfsedgefenwick.com/">Surf&#39\;s Edge Gourmet Deli &amp\; Pizza</a>\, 100 Coastal Hwy.\, Unit 4</strong>\n	<ul>\n		<li>Buy $100 gift card receive an additional $25</li>\n		<li>25% off all jams &amp\; crackers</li>\n		<li>25% off T-shirts &amp\; hats</li>\n		<li>Lunch Specials Available</li>\n	</ul>\n	</li>\n	<li><strong><a href="https://www.thebookattic.co/">The Book Attic</a>\, 38017 Fenwick Shoals Blvd.</strong>\n	<ul>\n		<li>&#8203\;Customers who make an in-store purchase $50+ will be entered into a raffle to win a Book Attic gift card</li>\n	</ul>\n	</li>\n	<li><strong><a href="https://www.thestationfi.com/the-pantry/">The Pantry at The Station</a>\,&nbsp\;1406 Coastal Hwy.</strong>\n	<ul>\n		<li>&#8203\;Grab-n-go salads &amp\; bowls $9</li>\n		<li>Boxed lunches 8am-2pm $13</li>\n	</ul>\n	</li>\n	<li><strong><a href="http://thestationfi.com">The Station</a>\,&nbsp\;1406 Coastal Hwy.</strong>\n	<ul>\n		<li>&#8203\;Daily Happy Hour 3-6pm - bar only</li>\n	</ul>\n	</li>\n	<li><strong><a href="http://www.tidepooltoys.com">Tidepool Toys</a>\,&nbsp\;100 Coastal Hwy.\, #6</strong>\n	<ul>\n		<li>&#8203\;15% off arts &amp\; crafts</li>\n		<li>punch &amp\; cookies to enjoy while you shop</li>\n	</ul>\n	</li>\n</ul>\n
LOCATION:Participating businesses in Fenwick Island!
UID:e.2126.41077
SEQUENCE:3
DTSTAMP:20260422T000849Z
URL:https://business.thequietresorts.com/events/details/festive-fridays-in-fenwick-island-12-19-2025-41077
END:VEVENT

END:VCALENDAR
