BEGIN:VCALENDAR
VERSION:2.0
PRODID:-//ChamberMaster//Event Calendar 2.0//EN
METHOD:PUBLISH
X-PUBLISHED-TTL:P3D
REFRESH-INTERVAL:P3D
CALSCALE:GREGORIAN
BEGIN:VEVENT
DTSTART:20241012T130000Z
DTEND:20241012T200000Z
X-MICROSOFT-CDO-ALLDAYEVENT:FALSE
SUMMARY:Delaware Botanic Gardens Tree Giveaway: Join the Tree for Every Delawarean Initiative (TEDI)
DESCRIPTION:We are excited to announce a special opportunity to bring nature into your own backyard! On October 12\, starting at 9 a.m.\, the Delaware Botanic Gardens will host a free native tree giveaway as part of the Tree For Every Delawarean Initiative (TEDI). This collaborative effort\, led by DNREC and the Delaware Forest Service\, aims to promote environmental sustainability by increasing tree coverage across Delaware. Don't miss your chance to receive a free tree for your home or community!\n\nThe giveaway will continue until all 250 trees have been distributed. Be sure to arrive early\, as trees are available on a first-come\, first-served basis!\n\nOpen to all Delaware residents. Each vehicle will receive one free tree. No purchase necessary\, optional entry to the gardens is $15 per person 16 and under are free. Members are admitted free.\n\n\n\nClick here for more information
X-ALT-DESC;FMTTYPE=text/html:<span style="color: rgb(22\, 3\, 3)\; font-size: 16px\; white-space-collapse: preserve\;"><font face="arial">We are excited to announce a special opportunity to bring nature into your own backyard! On <strong>October 12</strong></font></span><span style="font-family: arial\; color: rgb(22\, 3\, 3)\; font-size: 16px\; white-space-collapse: preserve\;">\, starting at <strong>9 a.m.</strong></span><span style="color: rgb(22\, 3\, 3)\; font-size: 16px\; white-space-collapse: preserve\;">\,</span><span style="font-family: arial\; color: rgb(22\, 3\, 3)\; font-size: 16px\; white-space-collapse: preserve\;"> the Delaware Botanic Gardens will host a <strong>free native tree giveaway</strong> </span><span style="color: rgb(22\, 3\, 3)\; font-size: 16px\; white-space-collapse: preserve\;"><font face="arial">as part of the <strong>Tree For Every Delawarean Initiative</strong> <strong>(TEDI)</strong></font></span><span style="font-family: arial\; color: rgb(22\, 3\, 3)\; font-size: 16px\; white-space-collapse: preserve\;">. This collaborative effort\, led by DNREC and the Delaware Forest Service\, aims to promote environmental sustainability by increasing tree coverage across Delaware. Don&rsquo\;t miss your chance to receive a free tree for your home or community!<br />\nThe giveaway will continue until all <strong>250 trees</strong> </span><span style="color: rgb(22\, 3\, 3)\; font-family: proxima-nova\; font-size: 16px\; white-space-collapse: preserve\;"><span style="font-family:arial\;">have been distributed. Be sure to arrive early\, as trees are available on a first-come\, first-served basis!<br />\nOpen to all Delaware residents. Each vehicle will receive one free tree. No purchase necessary\, optional entry to the gardens is $15 per person 16 and under are free. Members are admitted free.</span></span><br />\n<br />\n<span style="font-family:arial\;"><a href="https://www.delawaregardens.org/tree-giveaway">Click here for more information</a></span>
LOCATION:Delaware Botanic Gardens 30220 Piney Neck Rd. Dagsboro\, DE 19939
UID:e.2126.31446
SEQUENCE:3
DTSTAMP:20260419T235725Z
URL:https://business.thequietresorts.com/events/details/delaware-botanic-gardens-tree-giveaway-join-the-tree-for-every-delawarean-initiative-tedi-31446
END:VEVENT

END:VCALENDAR
