BEGIN:VCALENDAR
VERSION:2.0
PRODID:-//ChamberMaster//Event Calendar 2.0//EN
METHOD:PUBLISH
X-PUBLISHED-TTL:P3D
REFRESH-INTERVAL:P3D
CALSCALE:GREGORIAN
BEGIN:VEVENT
DTSTART:20241031T120000Z
DTEND:20241031T140000Z
X-MICROSOFT-CDO-ALLDAYEVENT:FALSE
SUMMARY:Connect for Coffee at Clove & Cedar Coffeebar
DESCRIPTION:Join the Bethany-Fenwick Area Chamber of Commerce at Clove & Cedar Coffeebar on Thursday\, October 31st\, for a Connect for Coffee!  Stop by Clove & Cedar from 8:00 - 10:00 AM on the 31st for coffee and networking with other Chamber members.
X-ALT-DESC;FMTTYPE=text/html:Join the Bethany-Fenwick Area Chamber of Commerce at Clove &amp\; Cedar Coffeebar on Thursday\, October 31st\, for a Connect for Coffee!&nbsp\; Stop by Clove &amp\; Cedar from 8:00 - 10:00 AM on the 31st for coffee and networking with other Chamber members.
LOCATION:Clove & Cedar Coffeebar 759 Garfield Pkwy. Bethany Beach\, DE 19930
UID:e.2126.31434
SEQUENCE:3
DTSTAMP:20260419T203835Z
URL:https://business.thequietresorts.com/events/details/connect-for-coffee-at-clove-cedar-coffeebar-31434
END:VEVENT

END:VCALENDAR
