BEGIN:VCALENDAR
VERSION:2.0
PRODID:-//ChamberMaster//Event Calendar 2.0//EN
METHOD:PUBLISH
X-PUBLISHED-TTL:P3D
REFRESH-INTERVAL:P3D
CALSCALE:GREGORIAN
BEGIN:VEVENT
DTSTART:20241208T000000Z
DTEND:20241208T010000Z
X-MICROSOFT-CDO-ALLDAYEVENT:FALSE
SUMMARY:Christmastime Is Here: A Holiday Concert with Maggie Griffin-Smith at Dickens Parlour Theatre
DESCRIPTION:Get ready to kick off the holiday season with Maggie Griffin-Smith in a festive concert filled with your favorite Christmas classics! Enjoy an evening full of toe-tapping tunes like "Rockin' Around the Christmas Tree\," "Jingle Bell Rock\," and "Run Rudolph Run!" Plus\, let the warmth of Christmas hymns like "Silent Night\," "O Holy Night\," and more fill your heart with holiday cheer. \n\nMaggie\, a seasoned performer with 20+ years of experience\, brings her talents from NYC to Las Vegas\, Broadway to Philly now bringing her magic to you this holiday season. Don't miss it!\n\nMaggie Griffin-Smith has worked professionally as a singer for over 20 years. She first started as a blues singer\, inspired by her late father. And with her mother being a pianist\, guitarist\, and dabbler in violin and saxophone\, Maggie was essentially fated to make music herself. She received a BFA in Musical Theatre from Montclair State University\, graduating magna cum laude. Since then\, she's performed in NYC\, Las Vegas\, Pigeon Forge\, Phoenix\, and across NY\, PA and NJ. She even celebrated/worked New Year's Eve 2022 in Times Square\, culminating in a performance of Firework overlooking the crowd at 12:10 AM on January 1\, 2023. Other favorite credits include: My Fair Lady (Eliza Doolittle)\, Bonnie & Clyde (Bonnie)\, The Spitfire Grill (Percy)\, Cinderella (Cinderella)\, Into the Woods (Baker's Wife)\, Phantom Of the Opera (Christine)\, and Godspell (Day By Day). Maggie also coaches\, directs\, and choreographs for individual performers and theaters. She lives in Philadelphia with her daughter Fiona\, and hopes to be the kind of parent who\, like her own\, inspires her to embrace her passion and monetize her talent.
X-ALT-DESC;FMTTYPE=text/html:<p><br />\n<strong>Get ready to kick off the holiday season with Maggie Griffin-Smith in a festive concert filled with your favorite Christmas classics! Enjoy an evening full of toe-tapping tunes like &quot\;<em>Rockin</em>&rsquo\; <em>Around the Christmas Tree</em>\,&quot\; &quot\;<em>Jingle Bell Rock</em>\,&quot\; and &quot\;<em>Run Rudolph Run</em>!&quot\; Plus\, let the warmth of Christmas hymns like &quot\;<em>Silent Night</em>\,&quot\; &quot\;<em>O Holy Night</em>\,&quot\; and more fill your heart with holiday cheer. </strong></p>\n\n<p><strong>Maggie\, a seasoned performer with 20+ years of experience\, brings her talents from NYC to Las Vegas\, Broadway to Philly&mdash\;now bringing her magic to you this holiday season. Don&rsquo\;t miss it!</strong></p>\n\n<p><strong>Maggie Griffin-Smith&nbsp\;</strong><span style="color:rgb(0\, 0\, 0)">has worked professionally as a singer for over 20 years. She first started as a blues singer\, inspired by her late father. And with her mother being a pianist\, guitarist\, and dabbler in violin and saxophone\, Maggie was essentially fated to make music herself. She received a BFA in Musical Theatre from Montclair State University\, graduating magna cum laude. Since then\, she&rsquo\;s performed in NYC\, Las Vegas\, Pigeon Forge\, Phoenix\, and across NY\, PA and NJ. She even celebrated/worked New Year&rsquo\;s Eve 2022 in Times Square\, culminating in a performance of Firework overlooking the crowd at 12:10 AM on January 1\, 2023. Other favorite credits include: My Fair Lady (Eliza Doolittle)\, Bonnie &amp\; Clyde (Bonnie)\, The Spitfire Grill (Percy)\, Cinderella (Cinderella)\, Into the Woods (Baker&rsquo\;s Wife)\, Phantom Of the Opera (Christine)\, and Godspell (Day By Day). Maggie also coaches\, directs\, and choreographs for individual performers and theaters. She lives in Philadelphia with her daughter Fiona\, and hopes to be the kind of parent who\, like her own\, inspires her to embrace her passion and monetize her talent.&nbsp\;</span></p>\n
LOCATION:Dickens Parlour Theatre 31810 Good Earth Lane Ocean View\, DE
UID:e.2126.31871
SEQUENCE:3
DTSTAMP:20260421T135903Z
URL:https://business.thequietresorts.com/events/details/christmastime-is-here-a-holiday-concert-with-maggie-griffin-smith-at-dickens-parlour-theatre-31871
END:VEVENT

END:VCALENDAR
