BEGIN:VCALENDAR
VERSION:2.0
PRODID:-//ChamberMaster//Event Calendar 2.0//EN
METHOD:PUBLISH
X-PUBLISHED-TTL:P3D
REFRESH-INTERVAL:P3D
CALSCALE:GREGORIAN
BEGIN:VEVENT
DTSTART:20260514T193000Z
DTEND:20260514T210000Z
X-MICROSOFT-CDO-ALLDAYEVENT:FALSE
SUMMARY:Bay Venture Outfitters Ribbon Cutting: Grand Reopening
DESCRIPTION:Join the BFACC at Bay Venture Outfitters on Thursday\, May 14th\, for a ribbon cutting celebrating Bay Venture Outfitters' grand reopening\, following construction during the 2025 summer season!  The event will take place from 3:30 - 5:00 PM\, with the ribbon to be cut at 4:00 PM.  \n\n\n\nJoin us on the 14th to see the new Bay Venture Outfitters landscape\, celebrate the start of a great summer season for the business\, enjoy refreshments\, and the option to kayak!\n\n\n\nLearn more about Bay Venture Outfitters here.
X-ALT-DESC;FMTTYPE=text/html:Join the BFACC at Bay Venture Outfitters on Thursday\, May 14th\, for a ribbon cutting celebrating Bay Venture Outfitters&#39\; grand reopening\, following construction during the 2025 summer season!&nbsp\; The event will take place from 3:30 - 5:00 PM\, with the ribbon to be cut at 4:00 PM.&nbsp\;&nbsp\;<br />\n<br />\nJoin us on the 14th to see the new Bay Venture Outfitters landscape\, celebrate the start of a great summer season for the business\, enjoy refreshments\, and the option to kayak!<br />\n<br />\n<a href="https://bethanybeach.bayventureoutfitters.com/">Learn more about Bay Venture Outfitters here.</a>
LOCATION:Bay Venture Outfitters 38635 Muddy Neck Rd.\, Frankford\, DE
UID:e.2126.44043
SEQUENCE:3
DTSTAMP:20260421T141631Z
URL:https://business.thequietresorts.com/events/details/bay-venture-outfitters-ribbon-cutting-grand-reopening-44043
END:VEVENT

END:VCALENDAR
