BEGIN:VCALENDAR
VERSION:2.0
PRODID:-//ChamberMaster//Event Calendar 2.0//EN
METHOD:PUBLISH
X-PUBLISHED-TTL:P3D
REFRESH-INTERVAL:P3D
CALSCALE:GREGORIAN
BEGIN:VEVENT
DTSTART:20260607T130000Z
DTEND:20260607T200000Z
X-MICROSOFT-CDO-ALLDAYEVENT:FALSE
SUMMARY:Annual Mid-Atlantic Sea Glass & Coastal Arts Festival
DESCRIPTION:Historic Lewes is pleased to announce the 2026 Mid-Atlantic Sea Glass & Coastal Arts Festival on Saturday\, June 6\, and Sunday\, June 7\, from 9 a.m. to 4 p.m. daily   rain or shine.\n\nThis family-fun event features over 75 sea glass and coastal artists\, sea glass history and identification experts\, education\, lectures\, the largest sea glass exhibit in the area\, live music\, food\, and more!\n\nTickets are $10 per person\, per day\, and will be available for advance purchase or can be obtained at the gate. Children 12 and under are free.
X-ALT-DESC;FMTTYPE=text/html:<div>\n<p style="box-sizing: border-box\; margin-top: 0px\; margin-bottom: 16px\; color: rgb(30\, 34\, 51)\; font-family: &quot\;Helvetica Neue&quot\;\, Helvetica\, Arial\, sans-serif\; font-size: 17.6px\;">Historic Lewes is pleased to announce the 2026 Mid-Atlantic Sea Glass &amp\; Coastal Arts Festival on Saturday\, June 6\, and Sunday\, June 7\, from 9 a.m. to 4 p.m. daily &ndash\; rain or shine.</p>\n\n<p style="box-sizing: border-box\; margin-top: 0px\; margin-bottom: 16px\; color: rgb(30\, 34\, 51)\; font-family: &quot\;Helvetica Neue&quot\;\, Helvetica\, Arial\, sans-serif\; font-size: 17.6px\;">This family-fun event features over 75 sea glass and coastal artists\, sea glass history and identification experts\, education\, lectures\, the largest sea glass exhibit in the area\, live music\, food\, and more!</p>\n\n<p style="box-sizing: border-box\; margin-top: 0px\; margin-bottom: 16px\; color: rgb(30\, 34\, 51)\; font-family: &quot\;Helvetica Neue&quot\;\, Helvetica\, Arial\, sans-serif\; font-size: 17.6px\;">Tickets are&nbsp\;<span style="box-sizing: border-box\; font-weight: bolder\;">$10 per person</span>\, per day\, and will be available for advance purchase or can be obtained at the gate. Children 12 and under are free.</p>\n</div>\n
LOCATION:
UID:e.2126.44036
SEQUENCE:3
DTSTAMP:20260421T141727Z
URL:https://business.thequietresorts.com/events/details/annual-mid-atlantic-sea-glass-coastal-arts-festival-06-07-2026-44036
END:VEVENT

END:VCALENDAR
