BEGIN:VCALENDAR
VERSION:2.0
PRODID:-//ChamberMaster//Event Calendar 2.0//EN
METHOD:PUBLISH
X-PUBLISHED-TTL:P3D
REFRESH-INTERVAL:P3D
CALSCALE:GREGORIAN
BEGIN:VEVENT
DTSTART:20241204T123000Z
DTEND:20241205T033000Z
X-MICROSOFT-CDO-ALLDAYEVENT:FALSE
SUMMARY:AARP Bus Trip to Sight & Sound
DESCRIPTION:Join the South Coastal AARP Tour Committee for a bus trip to Sight & Sound in Lancaster\, PA to see Daniel.\n\n\n\nCost is $172 pp and includes the round trip motor coach\, entrance to the show\, Hershey Farm Restaurant\, tax\, and gratuities.\n\n\n\nFor reservations\, contact Jim Harding 302-245-8511 or james.aarp5226@gmail.com.\n\n\n\nREFUND ONLY BY REPLACEMENT.\n\n\n\nPlease mail all payments to South coastal AARP Tour Committee\, PO Box 662\, Ocean View\, DE 19970.
X-ALT-DESC;FMTTYPE=text/html:Join the South Coastal AARP Tour Committee for a bus trip to Sight &amp\; Sound in Lancaster\, PA to see Daniel.<br />\n<br />\nCost is $172 pp and includes the round trip motor coach\, entrance to the show\, Hershey Farm Restaurant\, tax\, and gratuities.<br />\n<br />\nFor reservations\, contact Jim Harding 302-245-8511 or james.aarp5226@gmail.com.<br />\n<br />\nREFUND ONLY BY REPLACEMENT.<br />\n<br />\nPlease mail all payments to South coastal AARP Tour Committee\, PO Box 662\, Ocean View\, DE 19970.<br />\n<br />\n&nbsp\;
LOCATION:Sight & Sound 300 Hartman Bridge Rd. Ronks\, PA 17572
UID:e.2126.30357
SEQUENCE:3
DTSTAMP:20260421T134331Z
URL:https://business.thequietresorts.com/events/details/aarp-bus-trip-to-sight-sound-30357
END:VEVENT

END:VCALENDAR
