BEGIN:VCALENDAR
VERSION:2.0
PRODID:-//ChamberMaster//Event Calendar 2.0//EN
METHOD:PUBLISH
X-PUBLISHED-TTL:P3D
REFRESH-INTERVAL:P3D
CALSCALE:GREGORIAN
BEGIN:VEVENT
DTSTART:20241207T220000Z
DTEND:20241207T230000Z
X-MICROSOFT-CDO-ALLDAYEVENT:FALSE
SUMMARY:3rd Annual South Bethany Holiday Tree Lighting
DESCRIPTION:Please bring a food or cash donation to benefit the Cape Henlopen Food Basket
X-ALT-DESC;FMTTYPE=text/html:<br />\n<em><span style="color:#33cccc"><span style="font-size:18px"><strong>Please bring a food or cash donation to benefit the Cape Henlopen Food Basket</strong></span></span></em><br />\n<br />\n&nbsp\;
LOCATION:402 Evergreen Road South Bethany\, DE 19930 (outside Town Hall)
UID:e.2126.31863
SEQUENCE:3
DTSTAMP:20260421T134333Z
URL:https://business.thequietresorts.com/events/details/3rd-annual-south-bethany-holiday-tree-lighting-31863
END:VEVENT

END:VCALENDAR
