BEGIN:VCALENDAR
VERSION:2.0
PRODID:-//ChamberMaster//Event Calendar 2.0//EN
METHOD:PUBLISH
X-PUBLISHED-TTL:P3D
REFRESH-INTERVAL:P3D
CALSCALE:GREGORIAN
BEGIN:VEVENT
DTSTART:20251211T210000Z
DTEND:20251211T230000Z
X-MICROSOFT-CDO-ALLDAYEVENT:FALSE
SUMMARY:2025 Winter Social at The Station
DESCRIPTION:Join the Bethany-Fenwick Area Chamber of Commerce for a Winter Social at The Station in Fenwick Island on Thursday\, December 11th\, from 4:00 - 6:00 PM!  Stop by after work to enjoy delicious light bites by The Station\, shop gift items in The Pantry\, and mingle with local businesses and community members before the holidays. \n\n\n\nLearn more about The Station here\, and check out their amazing off-season menu!  Stick around after the winter mixer for dinner\, or plan your next event in their beautiful private event room.
X-ALT-DESC;FMTTYPE=text/html:<span style="color: rgb(51\, 51\, 51)\; background-color: rgb(255\, 255\, 255)\;">Join the Bethany-Fenwick Area Chamber of Commerce for a Winter Social at The Station in Fenwick Island on Thursday\, December 11th\, from 4:00 - 6:00 PM!&nbsp\; Stop by after work to enjoy delicious light bites by The Station\, shop gift items in The Pantry\, and mingle with local businesses and community members before the holidays.&nbsp\;</span><br />\n<br />\nLearn more about The Station <a href="https://www.thestationfi.com/">here</a>\, and check out their <a href="https://www.thestationfi.com/menus/#off-season-specials-2025">amazing off-season menu</a>!&nbsp\; Stick around after the winter mixer for dinner\, or <a href="https://www.thestationfi.com/private-events/">plan your next event in their beautiful private event room.</a>
LOCATION:The Station 1406 Coastal Hwy. Fenwick Island\, DE 19944
UID:e.2126.41039
SEQUENCE:3
DTSTAMP:20260422T000818Z
URL:https://business.thequietresorts.com/events/details/2025-winter-social-at-the-station-41039
END:VEVENT

END:VCALENDAR
