BEGIN:VCALENDAR
VERSION:2.0
PRODID:-//ChamberMaster//Event Calendar 2.0//EN
METHOD:PUBLISH
X-PUBLISHED-TTL:P3D
REFRESH-INTERVAL:P3D
CALSCALE:GREGORIAN
BEGIN:VEVENT
DTSTART:20230727T233000Z
DTEND:20230728T010000Z
X-MICROSOFT-CDO-ALLDAYEVENT:FALSE
SUMMARY:Zydeco-A-Go-Go
DESCRIPTION:"Laissez Les Bon Temps Roulers!" or "Let The Good Times Roll!" with Zydeco-a-Go-Go\, the Mid-Atlantic's #1 Zydeco Band. Creole Zydeco and Cajun 2-steps combine with funky New Orleans rhythm & blues and vintage Louisiana Rock & Roll into a spicy gumbo of irresistible dance music. In honor of Periers Day\, they will perform a medley of the U.S. and French National Anthems.
X-ALT-DESC;FMTTYPE=text/html:&quot\;Laissez Les Bon Temps Roulers!&quot\; or &quot\;Let The Good Times Roll!&quot\; with Zydeco-a-Go-Go\, the Mid-Atlantic&#39\;s #1 Zydeco Band. Creole Zydeco and Cajun 2-steps combine with funky New Orleans rhythm &amp\; blues and vintage Louisiana Rock &amp\; Roll into a spicy gumbo of irresistible dance music. In honor of Periers Day\, they will perform a medley of the U.S. and French National Anthems.
LOCATION:Bethany Beach Bandstand
UID:e.2126.26004
SEQUENCE:3
DTSTAMP:20260420T230438Z
URL:http://business.thequietresorts.com/events/details/zydeco-a-go-go-07-27-2023-26004
END:VEVENT

END:VCALENDAR
