BEGIN:VCALENDAR
VERSION:2.0
PRODID:-//ChamberMaster//Event Calendar 2.0//EN
METHOD:PUBLISH
X-PUBLISHED-TTL:P3D
REFRESH-INTERVAL:P3D
CALSCALE:GREGORIAN
BEGIN:VEVENT
DTSTART;VALUE=DATE:20200122
DTEND;VALUE=DATE:20200123
TRANSP:TRANSPARENT
X-MICROSOFT-CDO-ALLDAYEVENT:TRUE
SUMMARY:Zumba Master Jam Session at Energy Gym - Open to Public!
DESCRIPTION:LET'S CELEBRATE THE NEW YEAR 90 minutes of Sweaty Zumba Fitness  Fun\n\n- with ZJ Jana Walker from Pennsylvania! \n\nCost :$10\n\nTickets available through zumba.com or at door - space is limited!
X-ALT-DESC;FMTTYPE=text/html:<span style="color: rgb(29\, 33\, 41)\; font-family: inherit\; font-size: 14px\; background-color: rgb(255\, 255\, 255)\;">LET&rsquo\;S CELEBRATE THE NEW YEAR 90 minutes of Sweaty Zumba Fitness&reg\; Fun<br />\n- with ZJ Jana Walker from Pennsylvania! </span><br />\n<span style="color: rgb(29\, 33\, 41)\; font-family: inherit\; font-size: 14px\; background-color: rgb(255\, 255\, 255)\;">Cost :$10</span><br />\n<span style="color: rgb(29\, 33\, 41)\; font-family: inherit\; font-size: 14px\; background-color: rgb(255\, 255\, 255)\;">Tickets available through </span><a href="https://l.facebook.com/l.php?u=http%3A%2F%2Fzumba.com%2F%3Ffbclid%3DIwAR1vx0ZHLyGIHc1f46QUnv5wxBsHBEbfGejYfNVnRrZsJWAcIhnJAcXKqYc&amp\;h=AT1fCXyI0wbiaDZSrlK08wHAHezssscojS9NPiHoQeUlOcXlZiBOJI6UBwcefBvY7DYUBrqAc1aMqzz7ChLoJkG95RlFx_eh_j--rUFsEra9WNvDtUQQa1VNsGLZSyZn5Q" rel="nofollow" style="text-align: left\; color: rgb(56\, 88\, 152)\; text-transform: none\; text-indent: 0px\; letter-spacing: normal\; font-family: inherit\; font-size: 14px\; font-style: normal\; font-variant: normal\; font-weight: 400\; text-decoration: none\; word-spacing: 0px\; white-space: pre-wrap\; cursor: pointer\; orphans: 2\; -webkit-text-stroke-width: 0px\;" target="_blank">zumba.com</a> or at door - space is limited!
LOCATION:36666 W Bluewater Run Selbyville\, DE 19975
UID:e.2126.20047
SEQUENCE:3
DTSTAMP:20260426T020806Z
URL:http://business.thequietresorts.com/events/details/zumba-master-jam-session-at-energy-gym-open-to-public-20047
END:VEVENT

END:VCALENDAR
