BEGIN:VCALENDAR
VERSION:2.0
PRODID:-//ChamberMaster//Event Calendar 2.0//EN
METHOD:PUBLISH
X-PUBLISHED-TTL:P3D
REFRESH-INTERVAL:P3D
CALSCALE:GREGORIAN
BEGIN:VEVENT
DTSTART:20200403T163000Z
DTEND:20200403T171500Z
X-MICROSOFT-CDO-ALLDAYEVENT:FALSE
SUMMARY:ZOOM Webinar - State of Delaware H.E.L.P Assistance
DESCRIPTION:The Delaware Tourism Office will be hosting a webinar Friday\, April 3\, 2020  from 12:30 p.m.   1:15 p.m. to provide information on the H.E.L.P. loans and financial resources. We are limited to 100 participants.\n\n \n\n\n\nRegister here\n\nhttps://zoom.us/webinar/register/WN_eQdvlUDWQ1i0-gcJ_QBIqw\n\n\n\n \n\nPlease submit questions regarding the H.E.L.P. program or other financial resource questions by e-mailing Visit.Delaware@delaware.gov  mailto:Visit.Delaware@delaware.gov  .\n\n \n\nThe speakers will include:\n\nDamian DeStefano\, Director of Division of Small Business Jordan Schulties\, Deputy Director of Division of Small Business
X-ALT-DESC;FMTTYPE=text/html:The Delaware Tourism Office will be hosting a webinar Friday\, April 3\, 2020&nbsp\; from 12:30 p.m. &ndash\; 1:15 p.m. to provide information on the H.E.L.P. loans and financial resources. We are limited to 100 participants.<br />\n&nbsp\;<br />\n<br />\nRegister here<br />\n<a href="https://zoom.us/webinar/register/WN_eQdvlUDWQ1i0-gcJ_QBIqw">https://zoom.us/webinar/register/WN_eQdvlUDWQ1i0-gcJ_QBIqw</a><br />\n<br />\n&nbsp\;<br />\nPlease submit questions regarding the H.E.L.P. program or other financial resource questions by e-mailing <a href="mailto:Visit.Delaware@delaware.gov">Visit.Delaware@delaware.gov</a> &lt\;<a href="mailto:Visit.Delaware@delaware.gov">mailto:Visit.Delaware@delaware.gov</a>&gt\; .<br />\n&nbsp\;<br />\nThe speakers will include:<br />\nDamian DeStefano\, Director of Division of Small Business Jordan Schulties\, Deputy Director of Division of Small Business<br />\n&nbsp\;<br />\n&nbsp\;<br />\n&nbsp\;
LOCATION:
UID:e.2126.21496
SEQUENCE:3
DTSTAMP:20260425T212349Z
URL:http://business.thequietresorts.com/events/details/zoom-webinar-state-of-delaware-h-e-l-p-assistance-21496
END:VEVENT

END:VCALENDAR
