BEGIN:VCALENDAR
VERSION:2.0
PRODID:-//ChamberMaster//Event Calendar 2.0//EN
METHOD:PUBLISH
X-PUBLISHED-TTL:P3D
REFRESH-INTERVAL:P3D
CALSCALE:GREGORIAN
BEGIN:VEVENT
DTSTART;VALUE=DATE:20230611
DTEND;VALUE=DATE:20230618
TRANSP:TRANSPARENT
X-MICROSOFT-CDO-ALLDAYEVENT:TRUE
SUMMARY:Yoga & Sound Fundraiser
DESCRIPTION:Grab your mat and support your library! Join Chrissy for a one-hour all Level Yoga Flow session followed by a 30-minute sound bath experience. Proceeds from this event will benefit the Worcester County Library Foundation Scholarship program.
X-ALT-DESC;FMTTYPE=text/html:Grab your mat and support your library! Join Chrissy for a one-hour all Level Yoga Flow session followed by a 30-minute sound bath experience. Proceeds from this event will benefit the Worcester County Library Foundation Scholarship program.
LOCATION:Zenna Wellness 617 Franklin Avenue Berlin\, MD
UID:e.2126.25989
SEQUENCE:3
DTSTAMP:20260421T004813Z
URL:http://business.thequietresorts.com/events/details/yoga-sound-fundraiser-25989
END:VEVENT

END:VCALENDAR
