BEGIN:VCALENDAR
VERSION:2.0
PRODID:-//ChamberMaster//Event Calendar 2.0//EN
METHOD:PUBLISH
X-PUBLISHED-TTL:P3D
REFRESH-INTERVAL:P3D
CALSCALE:GREGORIAN
BEGIN:VEVENT
DTSTART:20221125T130000Z
DTEND:20221125T220000Z
X-MICROSOFT-CDO-ALLDAYEVENT:FALSE
SUMMARY:World Famous Jolly Roger Amusement Parks Black Friday!
DESCRIPTION:This year\, give your friends and family the perfect Christmas gift of a Jolly Summer because ALL 2023 Jolly Roger passes are 50% off!\n\n\n\nThey don't call it a "World Famous Event" for nothing! Have a Jolly good time with music and live local coverage from Froggy 99.9 while sipping on some free hot chocolate! Or if you'd prefer\, warm up by our firepits while you go through the lines with a free Christmas cookie and pastry in each hand!\n\n\n\nThis Black Friday Sale is truly an event you cannot afford to miss. Happening in-store only at the SpeedWorld Building on 30th St. in Ocean City\, MD.
X-ALT-DESC;FMTTYPE=text/html:<span style="font-family:arial\;"><span style="font-size:14px\;"><span style="color: rgb(64\, 64\, 64)\;">This year\, give your friends and family the perfect Christmas gift of a Jolly Summer because ALL 2023 Jolly Roger passes are 50% off!<br />\n<br />\nThey don&rsquo\;t call it a &quot\;World Famous Event&quot\;</span><span style="color: rgb(64\, 64\, 64)\;">&nbsp\;for nothing! Have a Jolly good time with music and live local coverage from Froggy 99.9 while sipping on some free hot chocolate! Or if you&rsquo\;d prefer\, warm up by our firepits while you go through the lines with a free Christmas cookie and pastry in each hand!<br />\n<br />\nThis Black Friday Sale is truly an event you cannot afford to miss. Happening in-store only at the SpeedWorld Building on 30th St. in Ocean City\, MD.</span></span></span>
LOCATION:JOLLY ROGER AMUSEMENT PARKS-SPEEDWORLD BUILDING 2901 COASTAL HWY. OCEAN CITY\, MD
UID:e.2126.24780
SEQUENCE:3
DTSTAMP:20260421T142123Z
URL:http://business.thequietresorts.com/events/details/world-famous-jolly-roger-amusement-parks-black-friday-24780
END:VEVENT

END:VCALENDAR
