BEGIN:VCALENDAR
VERSION:2.0
PRODID:-//ChamberMaster//Event Calendar 2.0//EN
METHOD:PUBLISH
X-PUBLISHED-TTL:P3D
REFRESH-INTERVAL:P3D
CALSCALE:GREGORIAN
BEGIN:VEVENT
DTSTART:20230513T140000Z
DTEND:20230513T210000Z
X-MICROSOFT-CDO-ALLDAYEVENT:FALSE
SUMMARY:World Fair Trade Day 2023
DESCRIPTION:Stop by Made By Hand International Cooperative on Saturday\, May 13th\, to celebrate World Fair Trade Day!  Sample Fair Trade foods & drinks and meet Carolina Gonzalez\, who will give demonstrations on working with felted wool.  Ask the staff why Fair Trade is important for the environment!
X-ALT-DESC;FMTTYPE=text/html:Stop by Made By Hand International Cooperative on Saturday\, May 13th\, to celebrate World Fair Trade Day!&nbsp\; Sample Fair Trade foods &amp\; drinks and meet Carolina Gonzalez\, who will give demonstrations on working with felted wool. &nbsp\;Ask the staff why Fair Trade is important for the environment!
LOCATION:Made By Hand International Cooperative York Beach Mall\, South Bethany Beach 34442 Coastal Highway #2 Bethany Beach DE 19930 York Beach Mall South Bethany Beach
UID:e.2126.25563
SEQUENCE:3
DTSTAMP:20260421T023940Z
URL:http://business.thequietresorts.com/events/details/world-fair-trade-day-2023-25563
END:VEVENT

END:VCALENDAR
