BEGIN:VCALENDAR
VERSION:2.0
PRODID:-//ChamberMaster//Event Calendar 2.0//EN
METHOD:PUBLISH
X-PUBLISHED-TTL:P3D
REFRESH-INTERVAL:P3D
CALSCALE:GREGORIAN
BEGIN:VEVENT
DTSTART:20240328T150000Z
DTEND:20240328T190000Z
X-MICROSOFT-CDO-ALLDAYEVENT:FALSE
SUMMARY:Women's High-end Handbags\, Clothing & Jewelry Donations Accepted for Pink Affair 2024
DESCRIPTION:Cancer Support Community DE is now accepting new & gently used donations of women's high end\, designer clothing\, handbags & jewelry for our 2024 Pink Affair annual fundraising event. \n\nDrop off Donations Thursdays 11am-3pm at 19847 John J Williams Hwy Ste 312 Rehoboth Beach DE\n\nOr call (302)645-9150 to schedule a drop-off/pick-up
X-ALT-DESC;FMTTYPE=text/html:<p>Cancer Support Community DE is now accepting new &amp\; gently used donations of women&#39\;s high end\, designer clothing\, handbags &amp\; jewelry for our 2024 Pink Affair annual fundraising event.&nbsp\;</p>\n\n<p>Drop off Donations Thursdays 11am-3pm at 19847 John J Williams Hwy Ste 312 Rehoboth Beach DE</p>\n\n<p>Or call (302)645-9150 to schedule a drop-off/pick-up</p>\n
LOCATION:Cancer Support Community DE\, 19847 John J Williams Hwy Ste 312 Rehoboth Beach DE 19971
UID:e.2126.28328
SEQUENCE:3
DTSTAMP:20260420T074543Z
URL:http://business.thequietresorts.com/events/details/women-s-high-end-handbags-clothing-jewelry-donations-accepted-for-pink-affair-2024-03-28-2024-28328
END:VEVENT

END:VCALENDAR
