BEGIN:VCALENDAR
VERSION:2.0
PRODID:-//ChamberMaster//Event Calendar 2.0//EN
METHOD:PUBLISH
X-PUBLISHED-TTL:P3D
REFRESH-INTERVAL:P3D
CALSCALE:GREGORIAN
BEGIN:VEVENT
DTSTART:20191221T150000Z
DTEND:20191221T190000Z
X-MICROSOFT-CDO-ALLDAYEVENT:FALSE
SUMMARY:Winter Wonderland Holiday Crafts and Visit from Santa Claus
DESCRIPTION:The Ward Museum and local businesses welcome the community to a celebration of the winter season. A free holiday social event paired with Pop Up Art for the creative in you. The lobby and grounds will be decked out for the holidays offering a perfect setting for a community gathering in honor of the season. Don't miss out on the chance to have your picture taken with Santa & make delightful winter crafts.
X-ALT-DESC;FMTTYPE=text/html:<span style="font-size:14px\;"><span style="font-family:arial\;">The Ward Museum and local businesses welcome the community to a celebration of the winter season. A free holiday social event paired with Pop Up Art for the creative in you. The lobby and grounds will be decked out for the holidays offering a perfect setting for a community gathering in honor of the season. Don&rsquo\;t miss out on the chance to have your picture taken with Santa &amp\; make delightful winter crafts.</span></span>
LOCATION:Ward Museum 909 S. Schumaker Dr Salisbury\, MD 21804
UID:e.2126.13634
SEQUENCE:3
DTSTAMP:20260426T034900Z
URL:http://business.thequietresorts.com/events/details/winter-wonderland-holiday-crafts-and-visit-from-santa-claus-12-21-2019-13634
END:VEVENT

END:VCALENDAR
